View In:
ArcGIS JavaScript
ArcGIS Online Map Viewer
ArcGIS Earth
ArcGIS Pro
Service Description: De acuerdo a León (2002), la erosión es el conjunto de procesos en la superficie de la corteza terrestre que producen pérdida física del suelo en grado variable. Ocurre naturalmente cuando se manifiestan las fuerzas de la gravedad en zonas montañosas o cuando el suelo queda expuesto a la acción del agua o del viento. No obstante, el hombre es el agente causal de mayor importancia en la erosión de suelos puesto que, a través de sus actividades, incide directamente en las coberturas vegetales, cambia la dinámica hídrica o modifica drásticamente las condiciones de manejo del recurso suelo, bien sea por prácticas agronómicas o construcción de infraestructura.
Map Name: Erosion Clase 25k
Legend
All Layers and Tables
Dynamic Legend
Dynamic All Layers
Layers:
Description: La erosión es un proceso natural por el cual las corrientes de agua o el viento arrastran parte del suelo de unos puntos a otros. Como proceso natural, sin intervención del hombre, ha permitido que se desplacen materiales de unos suelos a otros, generando fertilidad en los suelos que reciben estos aportes y que generalmente se localizan en valles interandios, en terrazas, en planicies aluviales.
De acuerdo al Protocolo de degradación de suelos y tierras por erosión – IDEAM, IGAC, MAVDT 2016, la degradación del suelo por erosión es la pérdida de la capa superficial del suelo por acción del agua o/y viento, que es mediada por el hombre, y trae consecuencias ambientales (ecológicas, sociales, económicas y culturales).
Para el indicador de degradación del suelo por erosión se generan dos mapas temáticos:
Service Item Id: 6c3637c08dde4a26947c44348445a94a
Copyright Text: CVC -2021
Spatial Reference:
102100
(3857)
Single Fused Map Cache: true
Tile Info:
- Height: 256
- Width: 256
- DPI: 96
-
Levels of Detail: 24
-
Level ID: 1
[ Start Tile, End Tile ]
- Resolution: 78271.5169639999
- Scale: 2.95828763795777E8
-
Level ID: 2
[ Start Tile, End Tile ]
- Resolution: 39135.7584820001
- Scale: 1.47914381897889E8
-
Level ID: 3
[ Start Tile, End Tile ]
- Resolution: 19567.8792409999
- Scale: 7.3957190948944E7
-
Level ID: 4
[ Start Tile, End Tile ]
- Resolution: 9783.93962049996
- Scale: 3.6978595474472E7
-
Level ID: 5
[ Start Tile, End Tile ]
- Resolution: 4891.96981024998
- Scale: 1.8489297737236E7
- Format: PNG
- Compression Quality: 0.0
- Origin: X: -2.0037508342787E7
Y: 2.0037508342787E7
- Spatial Reference: 102100
(3857)
Storage Info:
- Storage Format: esriMapCacheStorageModeCompactV2
- Packet Size: 128
Initial Extent:
XMin: -8638652.019434087
YMin: 340854.28035994025
XMax: -8436197.061191535
YMax: 567053.2855235598
Spatial Reference: 102100
(3857)
Full Extent:
XMin: -8633952.848867886
YMin: 345162.3305161803
XMax: -8430759.243751522
YMax: 562769.697724742
Spatial Reference: 102100
(3857)
Units: esriMeters
Supported Image Format Types: PNG32,PNG24,PNG,JPG,DIB,TIFF,EMF,PS,PDF,GIF,SVG,SVGZ,BMP
Document Info:
Title: EROSIÓN DEL SUELO ESC. 1:25.000
Author:
Comments: <DIV STYLE="text-align:Left;"><DIV><DIV><P><SPAN>La erosión es un proceso natural por el cual las corrientes de agua o el viento arrastran parte del suelo de unos puntos a otros. </SPAN><SPAN>Como proceso natural, sin intervención del hombre, ha permitido </SPAN><SPAN>que se desplacen materiales de unos suelos a otros</SPAN><SPAN>, generando fertilidad en los suelos que reciben estos aportes y que generalmente se localizan en valles interandios, en terrazas, en planicies aluviales</SPAN><SPAN>.</SPAN></P><P><SPAN>De acuerdo al Protocolo de degradación de suelos y tierras por erosión – IDEAM, IGAC, MAVDT 2016, la degradación del suelo por erosión es la pérdida de la capa superficial del suelo por acción del agua o/y viento, que es mediada por el hombre, y trae consecuencias ambientales (ecológicas, sociales, económicas y culturales)</SPAN><SPAN>.</SPAN></P><P><SPAN>Para </SPAN><SPAN>el indicador de degradación del suelo por erosión se generan dos mapas temáticos:</SPAN></P><UL><LI><P><SPAN>Mapa temático de grados de erosión del suelo. </SPAN></P></LI><LI><P><SPAN>Mapa temático de clases de erosión del suelo</SPAN></P></LI></UL></DIV></DIV></DIV>
Subject: De acuerdo a la Política para la Gestión sostenible del suelo del Ministerio de Ambiente y Desarrollo sostenible, uno de los procesos de degradación más relevantes en Colombia es la degradación del suelo por erosión, que consiste en la pérdida físico-mecánica del suelo a causa del agua, el viento o por acción humana (deforestación, quema, uso intensivo, etc.). La degradación del suelo por erosión es la pérdida de la capa superficial del suelo por acción del agua y/o viento, que es mediada por el hombre, y trae consecuencias ambientales, ecológicas, sociales, económicas y culturales (IDEAM, IGAC, MAVDT, 2016).
El servicio de Mapa de Erosión del suelo contiene los grados de erosión en las cuencas del Valle del Cauca, así como el origen y las manifestaciones dominantes presentes en el terreno y clasificadas en las clases de erosión como cárcavas, terraceo, laminar, entre otras.
La capa de Erosión del suelo escala 1:25.000, es un indicador que clasifica el grado de superficie afectada por erosión en las cuencas hidrográficas del Valle del Cauca. Por año, la CVC define a cuáles cuencas realizar la clasificación de la erosión del suelo
Category:
Keywords: CVC,Valle del Cauca,Colombia,Erosión,Perdida de Suelo,Cobertura,Grado erosión,Suelo,PDA_Suelo
AntialiasingMode: Fast
TextAntialiasingMode: Force
Supports Dynamic Layers: true
Resampling: false
MaxRecordCount: 2000
MaxImageHeight: 4096
MaxImageWidth: 4096
Supported Query Formats: JSON, geoJSON, PBF
Supports Query Data Elements: true
Min Scale: 9244648.868618
Max Scale: 2256.994353
Min LOD: 6
Max LOD: 18
Supports Datum Transformation: true
Child Resources:
Info
Dynamic Layer
Supported Operations:
Export Map
Identify
QueryLegends
QueryDomains
Find
Return Updates