View In:
ArcGIS JavaScript
ArcGIS Online Map Viewer
ArcGIS Earth
Service Description: Son imágenes de Radar Ortorectificadas (ORI) de banda X de 16 bits de todo el departamento.
Una orto-imagen de banda X es una imagen orto rectificada obtenida por la amplitud en la faja de
frecuencia de la microondas conocida como Banda X cuya frecuencia central varia de 9,35GHz
e 9,75GHz y longitud de onda entre 3,75 a 2,5 cm.
Name: IMAGENES/ValleCauca_ORIX_0_95m_16bits_img
Description: Son imágenes de Radar Ortorectificadas (ORI) de banda X de 16 bits de todo el departamento.
Una orto-imagen de banda X es una imagen orto rectificada obtenida por la amplitud en la faja de
frecuencia de la microondas conocida como Banda X cuya frecuencia central varia de 9,35GHz
e 9,75GHz y longitud de onda entre 3,75 a 2,5 cm.
Single Fused Map Cache: false
Extent:
XMin: 945679.0600522193
YMin: 771030.05
XMax: 1154598.3100522193
YMax: 1049590
Spatial Reference: 3115
(3115)
Initial Extent:
XMin: 945679.0600522193
YMin: 771030.05
XMax: 1154598.3100522193
YMax: 1049590
Spatial Reference: 3115
(3115)
Full Extent:
XMin: 945679.0600522193
YMin: 771030.05
XMax: 1154598.3100522193
YMax: 1049590
Spatial Reference: 3115
(3115)
Pixel Size X: 0.95
Pixel Size Y: 0.9499999999999998
Band Count: 1
Pixel Type: U16
RasterFunction Infos: {"rasterFunctionInfos": [
{
"name": "Contrast and Brightness",
"description": "Adjusts the contrast and brightness of a raster.",
"help": ""
},
{
"name": "Raster Function Template",
"description": "pp",
"help": ""
},
{
"name": "None",
"description": "",
"help": ""
}
]}
Mensuration Capabilities: Basic
Has Histograms: true
Has Colormap: false
Has Multi Dimensions : false
Rendering Rule:
Min Scale: 0
Max Scale: 0
Copyright Text:
Service Data Type: esriImageServiceDataTypeGeneric
Min Values: 1
Max Values: 32767
Mean Values: 135.74055415127
Standard Deviation Values: 61.864539573459
Object ID Field:
Fields:
None
Default Mosaic Method: Center
Allowed Mosaic Methods:
SortField:
SortValue: null
Mosaic Operator: First
Default Compression Quality: 75
Default Resampling Method: Bilinear
Max Record Count: null
Max Image Height: 4100
Max Image Width: 15000
Max Download Image Count: null
Max Mosaic Image Count: null
Allow Raster Function: true
Allow Copy: true
Allow Analysis: true
Allow Compute TiePoints: false
Supports Statistics: false
Supports Advanced Queries: false
Use StandardizedQueries: true
Raster Type Infos:
Name: Raster Dataset
Description: Supports all ArcGIS Raster Datasets
Help:
Has Raster Attribute Table: false
Edit Fields Info: null
Ownership Based AccessControl For Rasters: null
Child Resources:
Info
Histograms
Statistics
Key Properties
Legend
Raster Function Infos
Supported Operations:
Export Image
Identify
Measure
Compute Histograms
Compute Statistics Histograms
Get Samples
Compute Class Statistics
Query Boundary
Compute Pixel Location
Compute Angles
Validate
Project