{
 "currentVersion": 11.1,
 "serviceDescription": "Son imágenes de Radar Ortorectificadas (ORI) de banda X de 16 bits de todo el departamento.\nUna orto-imagen de banda X es una imagen orto rectificada obtenida por la amplitud en la faja de\nfrecuencia de la microondas conocida como Banda X cuya frecuencia central varia de 9,35GHz\ne 9,75GHz y longitud de onda entre 3,75 a 2,5 cm. ",
 "name": "IMAGENES/ValleCauca_ORIX_0_95m_16bits_img",
 "description": "Son imágenes de Radar Ortorectificadas (ORI) de banda X de 16 bits de todo el departamento.\nUna orto-imagen de banda X es una imagen orto rectificada obtenida por la amplitud en la faja de\nfrecuencia de la microondas conocida como Banda X cuya frecuencia central varia de 9,35GHz\ne 9,75GHz y longitud de onda entre 3,75 a 2,5 cm. ",
 "extent": {
  "xmin": 945679.0600522193,
  "ymin": 771030.05,
  "xmax": 1154598.3100522193,
  "ymax": 1049590,
  "spatialReference": {
   "wkid": 3115,
   "latestWkid": 3115
  }
 },
 "initialExtent": {
  "xmin": 945679.0600522193,
  "ymin": 771030.05,
  "xmax": 1154598.3100522193,
  "ymax": 1049590,
  "spatialReference": {
   "wkid": 3115,
   "latestWkid": 3115
  }
 },
 "fullExtent": {
  "xmin": 945679.0600522193,
  "ymin": 771030.05,
  "xmax": 1154598.3100522193,
  "ymax": 1049590,
  "spatialReference": {
   "wkid": 3115,
   "latestWkid": 3115
  }
 },
 "sortableFields": "",
 "bandCount": 1,
 "pixelType": "U16",
 "minValues": [
  1
 ],
 "maxValues": [
  32767
 ],
 "meanValues": [
  135.74055415127
 ],
 "stdvValues": [
  61.864539573459
 ],
 "hasMultidimensions": false,
 "pixelSizeX": 0.95,
 "pixelSizeY": 0.9499999999999998,
 "datasetFormat": "IMAGINE Image",
 "uncompressedSize": 128967392430,
 "blockWidth": 512,
 "blockHeight": 512,
 "compressionType": "None",
 "bandNames": [
  "Layer_1"
 ],
 "allowCopy": true,
 "allowAnalysis": true,
 "itemAccess": false,
 "noDataValue": 0,
 "noDataValues": [
  0
 ],
 "minPixelSize": 0,
 "maxPixelSize": 0,
 "copyrightText": "",
 "serviceDataType": "esriImageServiceDataTypeGeneric",
 "serviceSourceType": "esriImageServiceSourceTypeDataset",
 "objectIdField": "",
 "fields": [],
 "capabilities": "Mensuration,Image,Metadata",
 "defaultMosaicMethod": "Center",
 "allowedMosaicMethods": "",
 "sortField": "",
 "sortValue": null,
 "sortAscending": true,
 "mosaicOperator": "First",
 "defaultCompressionQuality": 75,
 "defaultResamplingMethod": "Bilinear",
 "maxImageHeight": 4100,
 "maxImageWidth": 15000,
 "allowRasterFunction": true,
 "rasterFunctionInfos": [
  {
   "name": "Contrast and Brightness",
   "description": "Adjusts the contrast and brightness of a raster.",
   "help": ""
  },
  {
   "name": "Raster Function Template",
   "description": "pp",
   "help": ""
  },
  {
   "name": "None",
   "description": "",
   "help": ""
  }
 ],
 "rasterTypeInfos": [
  {
   "name": "Raster Dataset",
   "description": "Supports all ArcGIS Raster Datasets",
   "help": ""
  }
 ],
 "mensurationCapabilities": "Basic",
 "hasHistograms": true,
 "hasColormap": false,
 "hasRasterAttributeTable": false,
 "minScale": 0,
 "maxScale": 0,
 "exportTilesAllowed": false,
 "supportsStatistics": false,
 "supportsAdvancedQueries": false,
 "editFieldsInfo": null,
 "ownershipBasedAccessControlForRasters": null,
 "allowComputeTiePoints": false,
 "useStandardizedQueries": true,
 "advancedQueryCapabilities": {
  "useStandardizedQueries": true,
  "supportsStatistics": false,
  "supportsOrderBy": false,
  "supportsDistinct": false,
  "supportsPagination": false
 },
 "spatialReference": {
  "wkid": 3115,
  "latestWkid": 3115
 }
}
