View In:
ArcGIS JavaScript
ArcGIS Online Map Viewer
ArcGIS Earth
Service Description: DSM que comprende el área geográfica determinada sobre centros pobladosy cabeceras corregimentales en el Departamento de Valle del Cauca, obtenidos a partir de tecnologia Lidar con una resolucion de 1 metro, escala 1:1.000.
Name: IMAGENES/MDS_1m
Description: DSM que comprende el área geográfica determinada sobre centros pobladosy cabeceras corregimentales en el Departamento de Valle del Cauca, obtenidos a partir de tecnologia Lidar con una resolucion de 1 metro, escala 1:1.000.
Single Fused Map Cache: false
Extent:
XMin: 961290.100000017
YMin: 796055.9000000277
XMax: 1149786.2999999938
YMax: 1036457.2999999982
Spatial Reference: 3115
(3115)
Initial Extent:
XMin: 961290.100000017
YMin: 796055.9000000277
XMax: 1149786.2999999938
YMax: 1036457.2999999982
Spatial Reference: 3115
(3115)
Full Extent:
XMin: 961290.100000017
YMin: 796055.9000000277
XMax: 1149786.2999999938
YMax: 1036457.2999999982
Spatial Reference: 3115
(3115)
Pixel Size X: 0.19999999999997536
Pixel Size Y: 0.19999999999997542
Band Count: 1
Pixel Type: F32
RasterFunction Infos: {"rasterFunctionInfos": [
{
"name": "None",
"description": "Make a Raster or Raster Dataset into a Function Raster Dataset.",
"help": ""
},
{
"name": "None",
"description": "Make a Raster or Raster Dataset into a Function Raster Dataset.",
"help": ""
}
]}
Mensuration Capabilities: None
Has Histograms: true
Has Colormap: false
Has Multi Dimensions : false
Rendering Rule:
Min Scale: 0
Max Scale: 0
Copyright Text: Contrato CVC No. 0403 de 2012. INGEOVISTA Ltda. Restitución cartográfica para el Ordenamiento Territorial y la zonificación de amenazas y escenarios de riesgo por movimientos en masa, inundaciones y avenidas torrenciales en cabeceras municipales del Valle del Cauca – Fase I.Contrato CVC No. 0645 de 2020. INCIGE. Restitución cartográfica de cabeceras municipales y corregimentales para procesos de gestión del riesgo, ordenamiento territorial y ajuste de la zonificación ambiental de la reserva forestal central y del pacífico de la ley 2da de 1959 en el valle del cauca, para el fortalecimiento del sistema de información corporativo.
Service Data Type: esriImageServiceDataTypeGeneric
Min Values: 1394.0410614013676
Max Values: 1662.8229522705083
Mean Values: 1542.4683743926219
Standard Deviation Values: 52.62751757812982
Object ID Field: OBJECTID
Fields:
-
OBJECTID
(
type: esriFieldTypeOID, alias: OBJECTID
)
-
Shape
(
type: esriFieldTypeGeometry, alias: Shape
)
-
Name
(
type: esriFieldTypeString, alias: Name, length: 200
)
-
MinPS
(
type: esriFieldTypeDouble, alias: MinPS
)
-
MaxPS
(
type: esriFieldTypeDouble, alias: MaxPS
)
-
LowPS
(
type: esriFieldTypeDouble, alias: LowPS
)
-
HighPS
(
type: esriFieldTypeDouble, alias: HighPS
)
-
Category
(
type: esriFieldTypeInteger, alias: Category
, Coded Values:
[0: Unknown]
, [1: Primary]
, [2: Overview]
, ...6 more...
)
-
Tag
(
type: esriFieldTypeString, alias: Tag, length: 100
)
-
GroupName
(
type: esriFieldTypeString, alias: GroupName, length: 100
)
-
ProductName
(
type: esriFieldTypeString, alias: ProductName, length: 100
)
-
CenterX
(
type: esriFieldTypeDouble, alias: CenterX
)
-
CenterY
(
type: esriFieldTypeDouble, alias: CenterY
)
-
ZOrder
(
type: esriFieldTypeInteger, alias: ZOrder
)
-
Shape_Length
(
type: esriFieldTypeDouble, alias: Shape_Length
)
-
Shape_Area
(
type: esriFieldTypeDouble, alias: Shape_Area
)
Default Mosaic Method: Northwest
Allowed Mosaic Methods: NorthWest,Center,LockRaster,ByAttribute,Nadir,Viewpoint,Seamline,None
SortField:
SortValue: null
Mosaic Operator: First
Default Compression Quality: 75
Default Resampling Method: Bilinear
Max Record Count: 1000
Max Image Height: 4100
Max Image Width: 15000
Max Download Image Count: 20
Max Mosaic Image Count: 20
Allow Raster Function: true
Allow Copy: true
Allow Analysis: true
Allow Compute TiePoints: false
Supports Statistics: true
Supports Advanced Queries: true
Use StandardizedQueries: true
Raster Type Infos:
Name: Image Service
Description: Supports ArcGIS image service
Help:
Name: WMS
Description: Allows a WMS (Web Map Service) layer to be consumed as a raster dataset.
Help:
Name: Map Service
Description: Supports ArcGIS map service
Help:
Name: Raster Dataset
Description: Supports all ArcGIS Raster Datasets
Help:
Has Raster Attribute Table: false
Edit Fields Info: null
Ownership Based AccessControl For Rasters: null
Child Resources:
Info
Histograms
Statistics
Key Properties
Legend
Raster Function Infos
Supported Operations:
Export Image
Query
Identify
Measure
Compute Histograms
Compute Statistics Histograms
Get Samples
Compute Class Statistics
Query Boundary
Compute Pixel Location
Compute Angles
Validate
Project