{ "currentVersion": 11.1, "serviceDescription": "
D<\/span>S<\/span>M que comprende el área geográfica determinada sobre <\/span>centros poblado<\/span>s<\/span>y cabeceras corregimentales <\/span>en el Departamento de Valle del Cauca, obtenido<\/span>s<\/span> a partir de <\/span>tecnologia<\/span> Lidar con una resolucion de 1 metro,<\/span> <\/span>escala 1:1.000.<\/span><\/p><\/div><\/div><\/div>",
"name": "IMAGENES/MDS_1m",
"description": " D<\/span>S<\/span>M que comprende el área geográfica determinada sobre <\/span>centros poblado<\/span>s<\/span>y cabeceras corregimentales <\/span>en el Departamento de Valle del Cauca, obtenido<\/span>s<\/span> a partir de <\/span>tecnologia<\/span> Lidar con una resolucion de 1 metro,<\/span> <\/span>escala 1:1.000.<\/span><\/p><\/div><\/div><\/div>",
"extent": {
"xmin": 961290.100000017,
"ymin": 796055.9000000277,
"xmax": 1149786.2999999938,
"ymax": 1036457.2999999982,
"spatialReference": {
"wkid": 3115,
"latestWkid": 3115
}
},
"initialExtent": {
"xmin": 961290.100000017,
"ymin": 796055.9000000277,
"xmax": 1149786.2999999938,
"ymax": 1036457.2999999982,
"spatialReference": {
"wkid": 3115,
"latestWkid": 3115
}
},
"fullExtent": {
"xmin": 961290.100000017,
"ymin": 796055.9000000277,
"xmax": 1149786.2999999938,
"ymax": 1036457.2999999982,
"spatialReference": {
"wkid": 3115,
"latestWkid": 3115
}
},
"sortableFields": "MinPS,MaxPS,LowPS,HighPS,CenterX,CenterY,ZOrder,Shape_Length,Shape_Area",
"bandCount": 1,
"pixelType": "F32",
"minValues": [
1394.0410614013676
],
"maxValues": [
1662.8229522705083
],
"meanValues": [
1542.4683743926219
],
"stdvValues": [
52.62751757812982
],
"hasMultidimensions": false,
"pixelSizeX": 0.19999999999997536,
"pixelSizeY": 0.19999999999997542,
"datasetFormat": "AMD",
"uncompressedSize": 4531475037468,
"blockWidth": 2048,
"blockHeight": 256,
"compressionType": "None",
"bandNames": [
"Band_1"
],
"allowCopy": true,
"allowAnalysis": true,
"itemAccess": false,
"minPixelSize": 0,
"maxPixelSize": 0,
"copyrightText": "Contrato CVC No. 0403 de 2012. INGEOVISTA Ltda. Restitución cartográfica para el Ordenamiento Territorial y la zonificación de amenazas y escenarios de riesgo por movimientos en masa, inundaciones y avenidas torrenciales en cabeceras municipales del Valle del Cauca \u2013 Fase I.Contrato CVC No. 0645 de 2020. INCIGE. Restitución cartográfica de cabeceras municipales y corregimentales para procesos de gestión del riesgo, ordenamiento territorial y ajuste de la zonificación ambiental de la reserva forestal central y del pacífico de la ley 2da de 1959 en el valle del cauca, para el fortalecimiento del sistema de información corporativo.",
"serviceDataType": "esriImageServiceDataTypeGeneric",
"serviceSourceType": "esriImageServiceSourceTypeMosaicDataset",
"objectIdField": "OBJECTID",
"fields": [
{
"name": "OBJECTID",
"type": "esriFieldTypeOID",
"alias": "OBJECTID",
"domain": null
},
{
"name": "Shape",
"type": "esriFieldTypeGeometry",
"alias": "Shape",
"domain": null
},
{
"name": "Name",
"type": "esriFieldTypeString",
"alias": "Name",
"domain": null,
"length": 200
},
{
"name": "MinPS",
"type": "esriFieldTypeDouble",
"alias": "MinPS",
"domain": null
},
{
"name": "MaxPS",
"type": "esriFieldTypeDouble",
"alias": "MaxPS",
"domain": null
},
{
"name": "LowPS",
"type": "esriFieldTypeDouble",
"alias": "LowPS",
"domain": null
},
{
"name": "HighPS",
"type": "esriFieldTypeDouble",
"alias": "HighPS",
"domain": null
},
{
"name": "Category",
"type": "esriFieldTypeInteger",
"alias": "Category",
"domain": {
"type": "codedValue",
"name": "MosaicCatalogItemCategoryDomain",
"description": "Catalog item categories.",
"codedValues": [
{
"name": "Unknown",
"code": 0
},
{
"name": "Primary",
"code": 1
},
{
"name": "Overview",
"code": 2
},
{
"name": "Unprocessed Overview",
"code": 3
},
{
"name": "Partial Overview",
"code": 4
},
{
"name": "Inactive",
"code": 5
},
{
"name": "Uploaded",
"code": 253
},
{
"name": "Incomplete",
"code": 254
},
{
"name": "Custom",
"code": 255
}
],
"mergePolicy": "esriMPTDefaultValue",
"splitPolicy": "esriSPTDefaultValue"
}
},
{
"name": "Tag",
"type": "esriFieldTypeString",
"alias": "Tag",
"domain": null,
"length": 100
},
{
"name": "GroupName",
"type": "esriFieldTypeString",
"alias": "GroupName",
"domain": null,
"length": 100
},
{
"name": "ProductName",
"type": "esriFieldTypeString",
"alias": "ProductName",
"domain": null,
"length": 100
},
{
"name": "CenterX",
"type": "esriFieldTypeDouble",
"alias": "CenterX",
"domain": null
},
{
"name": "CenterY",
"type": "esriFieldTypeDouble",
"alias": "CenterY",
"domain": null
},
{
"name": "ZOrder",
"type": "esriFieldTypeInteger",
"alias": "ZOrder",
"domain": null
},
{
"name": "Shape_Length",
"type": "esriFieldTypeDouble",
"alias": "Shape_Length",
"domain": null
},
{
"name": "Shape_Area",
"type": "esriFieldTypeDouble",
"alias": "Shape_Area",
"domain": null
}
],
"capabilities": "Catalog,Mensuration,Image,Metadata",
"defaultMosaicMethod": "Northwest",
"allowedMosaicMethods": "NorthWest,Center,LockRaster,ByAttribute,Nadir,Viewpoint,Seamline,None",
"sortField": "",
"sortValue": null,
"sortAscending": true,
"mosaicOperator": "First",
"maxDownloadSizeLimit": 2048,
"defaultCompressionQuality": 75,
"defaultResamplingMethod": "Bilinear",
"maxImageHeight": 4100,
"maxImageWidth": 15000,
"maxRecordCount": 1000,
"maxDownloadImageCount": 20,
"maxMosaicImageCount": 20,
"allowRasterFunction": true,
"rasterFunctionInfos": [
{
"name": "None",
"description": "Make a Raster or Raster Dataset into a Function Raster Dataset.",
"help": ""
},
{
"name": "None",
"description": "Make a Raster or Raster Dataset into a Function Raster Dataset.",
"help": ""
}
],
"rasterTypeInfos": [
{
"name": "Image Service",
"description": "Supports ArcGIS image service",
"help": ""
},
{
"name": "WMS",
"description": "Allows a WMS (Web Map Service) layer to be consumed as a raster dataset.",
"help": ""
},
{
"name": "Map Service",
"description": "Supports ArcGIS map service",
"help": ""
},
{
"name": "Raster Dataset",
"description": "Supports all ArcGIS Raster Datasets",
"help": ""
}
],
"mensurationCapabilities": "None",
"hasHistograms": true,
"hasColormap": false,
"hasRasterAttributeTable": false,
"minScale": 0,
"maxScale": 0,
"exportTilesAllowed": false,
"supportsStatistics": true,
"supportsAdvancedQueries": true,
"editFieldsInfo": null,
"ownershipBasedAccessControlForRasters": null,
"allowComputeTiePoints": false,
"useStandardizedQueries": true,
"advancedQueryCapabilities": {
"useStandardizedQueries": true,
"supportsStatistics": true,
"supportsOrderBy": true,
"supportsDistinct": true,
"supportsPagination": true
},
"spatialReference": {
"wkid": 3115,
"latestWkid": 3115
}
}