View In:
ArcGIS JavaScript
ArcGIS Online Map Viewer
ArcGIS Earth
Service Description: Perfil3D_WEL
Name: Perfil3D_WEL
Description:
Single Fused Map Cache: true
Tile Info:
- Height: 256
- Width: 256
- DPI: 96
-
Levels of Detail: 19
-
Level ID: 0
[ Start Tile, End Tile ]
- Resolution: 78077.83716128633
- Scale: 2.950973373024995E8
-
Level ID: 1
[ Start Tile, End Tile ]
- Resolution: 39038.91858064316
- Scale: 1.4754866865124974E8
-
Level ID: 2
[ Start Tile, End Tile ]
- Resolution: 19519.45929032158
- Scale: 7.377433432562487E7
-
Level ID: 3
[ Start Tile, End Tile ]
- Resolution: 9759.72964516079
- Scale: 3.6887167162812434E7
-
Level ID: 4
[ Start Tile, End Tile ]
- Resolution: 4879.864822580395
- Scale: 1.8443583581406217E7
-
Level ID: 5
[ Start Tile, End Tile ]
- Resolution: 2439.9324112901977
- Scale: 9221791.790703109
-
Level ID: 6
[ Start Tile, End Tile ]
- Resolution: 1219.9662056450989
- Scale: 4610895.895351554
-
Level ID: 7
[ Start Tile, End Tile ]
- Resolution: 609.9831028225494
- Scale: 2305447.947675777
-
Level ID: 8
[ Start Tile, End Tile ]
- Resolution: 304.9915514112747
- Scale: 1152723.9738378886
-
Level ID: 9
[ Start Tile, End Tile ]
- Resolution: 152.49577570563736
- Scale: 576361.9869189443
-
Level ID: 10
[ Start Tile, End Tile ]
- Resolution: 76.24788785281868
- Scale: 288180.99345947214
-
Level ID: 11
[ Start Tile, End Tile ]
- Resolution: 38.12394392640934
- Scale: 144090.49672973607
-
Level ID: 12
[ Start Tile, End Tile ]
- Resolution: 19.06197196320467
- Scale: 72045.24836486804
-
Level ID: 13
[ Start Tile, End Tile ]
- Resolution: 9.530985981602335
- Scale: 36022.62418243402
-
Level ID: 14
[ Start Tile, End Tile ]
- Resolution: 4.765492990801167
- Scale: 18011.31209121701
-
Level ID: 15
[ Start Tile, End Tile ]
- Resolution: 2.3827464954005837
- Scale: 9005.656045608504
-
Level ID: 16
[ Start Tile, End Tile ]
- Resolution: 1.1913732477002918
- Scale: 4502.828022804252
-
Level ID: 17
[ Start Tile, End Tile ]
- Resolution: 0.5956866238501459
- Scale: 2251.414011402126
-
Level ID: 18
[ Start Tile, End Tile ]
- Resolution: 0.29784331192507296
- Scale: 1125.707005701063
- Format: LERC
- Compression Quality: 0.0
- LERC Error: 0.05
- Origin: X: -4993963.156644649
Y: 1.1552012688130872E7
- Spatial Reference: 9377
(9377)
Storage Info:
- Storage Format: esriMapCacheStorageModeCompactV2
- Packet Size: 128
Extent:
XMin: 4492843.360730844
YMin: 1838043.8845550483
XMax: 4701015.860730844
YMax: 2117178.8845550483
Spatial Reference: 9377
(9377)
Initial Extent:
XMin: 4492843.360730844
YMin: 1838043.8845550483
XMax: 4701015.860730844
YMax: 2117178.8845550483
Spatial Reference: 9377
(9377)
Full Extent:
XMin: 4492843.360730844
YMin: 1838043.8845550483
XMax: 4701015.860730844
YMax: 2117178.8845550483
Spatial Reference: 9377
(9377)
Pixel Size X: 2.5
Pixel Size Y: 2.5
Band Count: 1
Pixel Type: F32
RasterFunction Infos: {"rasterFunctionInfos": [
{
"name": "None",
"description": "Make a Raster or Raster Dataset into a Function Raster Dataset.",
"help": ""
},
{
"name": "MDT_Radar",
"description": "Plantilla Color DRA Radar",
"help": ""
}
]}
Mensuration Capabilities: Basic
Has Histograms: true
Has Colormap: false
Has Multi Dimensions : false
Rendering Rule:
Min Scale: 2.950973373024995E8
Max Scale: 72045.24836486804
Min LOD: 0
Max LOD: 12
Copyright Text:
Service Data Type: esriImageServiceDataTypeGeneric
Min Values: -13.149971008301
Max Values: 4286.5268554688
Mean Values: 1312.6673473984
Standard Deviation Values: 962.8970413536
Object ID Field:
Fields:
None
Default Mosaic Method: Center
Allowed Mosaic Methods:
SortField:
SortValue: null
Mosaic Operator: First
Default Compression Quality: 75
Default Resampling Method: Bilinear
Max Record Count: null
Max Image Height: 4100
Max Image Width: 15000
Max Download Image Count: null
Max Mosaic Image Count: null
Allow Raster Function: true
Allow Copy: true
Allow Analysis: true
Allow Compute TiePoints: false
Supports Statistics: false
Supports Advanced Queries: false
Use StandardizedQueries: true
Raster Type Infos:
Name: Raster Dataset
Description: Supports all ArcGIS Raster Datasets
Help:
Has Raster Attribute Table: false
Edit Fields Info: null
Ownership Based AccessControl For Rasters: null
Child Resources:
Info
Histograms
Statistics
Key Properties
Legend
Raster Function Infos
Supported Operations:
Export Image
Identify
Measure
Compute Histograms
Compute Statistics Histograms
Get Samples
Compute Class Statistics
Query Boundary
Compute Pixel Location
Compute Angles
Validate
Project