{
 "currentVersion": 11.1,
 "serviceDescription": "Perfil3D_WEL",
 "name": "Perfil3D_WEL",
 "description": "",
 "extent": {
  "xmin": 4492843.360730844,
  "ymin": 1838043.8845550483,
  "xmax": 4701015.860730844,
  "ymax": 2117178.8845550483,
  "spatialReference": {
   "wkid": 9377,
   "latestWkid": 9377
  }
 },
 "initialExtent": {
  "xmin": 4492843.360730844,
  "ymin": 1838043.8845550483,
  "xmax": 4701015.860730844,
  "ymax": 2117178.8845550483,
  "spatialReference": {
   "wkid": 9377,
   "latestWkid": 9377
  }
 },
 "fullExtent": {
  "xmin": 4492843.360730844,
  "ymin": 1838043.8845550483,
  "xmax": 4701015.860730844,
  "ymax": 2117178.8845550483,
  "spatialReference": {
   "wkid": 9377,
   "latestWkid": 9377
  }
 },
 "sortableFields": "",
 "bandCount": 1,
 "pixelType": "F32",
 "minValues": [
  -13.149971008301
 ],
 "maxValues": [
  4286.5268554688
 ],
 "meanValues": [
  1312.6673473984
 ],
 "stdvValues": [
  962.8970413536
 ],
 "hasMultidimensions": false,
 "pixelSizeX": 2.5,
 "pixelSizeY": 2.5,
 "datasetFormat": "TIFF",
 "uncompressedSize": 37189267704,
 "blockWidth": 128,
 "blockHeight": 128,
 "compressionType": "LZW",
 "bandNames": [
  "Band_1"
 ],
 "allowCopy": true,
 "allowAnalysis": true,
 "itemAccess": false,
 "noDataValue": -3.4028230607370965E38,
 "noDataValues": [
  -3.4028230607370965E38
 ],
 "minPixelSize": 19.06197196320467,
 "maxPixelSize": 78077.83716128633,
 "copyrightText": "",
 "serviceDataType": "esriImageServiceDataTypeGeneric",
 "serviceSourceType": "esriImageServiceSourceTypeDataset",
 "objectIdField": "",
 "fields": [],
 "capabilities": "Image,Metadata,Mensuration",
 "defaultMosaicMethod": "Center",
 "allowedMosaicMethods": "",
 "sortField": "",
 "sortValue": null,
 "sortAscending": true,
 "mosaicOperator": "First",
 "defaultCompressionQuality": 75,
 "defaultResamplingMethod": "Bilinear",
 "maxImageHeight": 4100,
 "maxImageWidth": 15000,
 "singleFusedMapCache": true,
 "tileInfo": {
  "rows": 256,
  "cols": 256,
  "dpi": 96,
  "format": "LERC",
  "compressionQuality": 0,
  "lercError": 0.05,
  "origin": {
   "x": -4993963.156644649,
   "y": 1.1552012688130872E7
  },
  "spatialReference": {
   "wkid": 9377,
   "latestWkid": 9377
  },
  "lods": [
   {
    "level": 0,
    "resolution": 78077.83716128633,
    "scale": 2.950973373024995E8
   },
   {
    "level": 1,
    "resolution": 39038.91858064316,
    "scale": 1.4754866865124974E8
   },
   {
    "level": 2,
    "resolution": 19519.45929032158,
    "scale": 7.377433432562487E7
   },
   {
    "level": 3,
    "resolution": 9759.72964516079,
    "scale": 3.6887167162812434E7
   },
   {
    "level": 4,
    "resolution": 4879.864822580395,
    "scale": 1.8443583581406217E7
   },
   {
    "level": 5,
    "resolution": 2439.9324112901977,
    "scale": 9221791.790703109
   },
   {
    "level": 6,
    "resolution": 1219.9662056450989,
    "scale": 4610895.895351554
   },
   {
    "level": 7,
    "resolution": 609.9831028225494,
    "scale": 2305447.947675777
   },
   {
    "level": 8,
    "resolution": 304.9915514112747,
    "scale": 1152723.9738378886
   },
   {
    "level": 9,
    "resolution": 152.49577570563736,
    "scale": 576361.9869189443
   },
   {
    "level": 10,
    "resolution": 76.24788785281868,
    "scale": 288180.99345947214
   },
   {
    "level": 11,
    "resolution": 38.12394392640934,
    "scale": 144090.49672973607
   },
   {
    "level": 12,
    "resolution": 19.06197196320467,
    "scale": 72045.24836486804
   },
   {
    "level": 13,
    "resolution": 9.530985981602335,
    "scale": 36022.62418243402
   },
   {
    "level": 14,
    "resolution": 4.765492990801167,
    "scale": 18011.31209121701
   },
   {
    "level": 15,
    "resolution": 2.3827464954005837,
    "scale": 9005.656045608504
   },
   {
    "level": 16,
    "resolution": 1.1913732477002918,
    "scale": 4502.828022804252
   },
   {
    "level": 17,
    "resolution": 0.5956866238501459,
    "scale": 2251.414011402126
   },
   {
    "level": 18,
    "resolution": 0.29784331192507296,
    "scale": 1125.707005701063
   }
  ]
 },
 "storageInfo": {
  "storageFormat": "esriMapCacheStorageModeCompactV2",
  "packetSize": 128
 },
 "cacheType": "Elevation",
 "allowRasterFunction": true,
 "rasterFunctionInfos": [
  {
   "name": "None",
   "description": "Make a Raster or Raster Dataset into a Function Raster Dataset.",
   "help": ""
  },
  {
   "name": "MDT_Radar",
   "description": "Plantilla Color DRA Radar",
   "help": ""
  }
 ],
 "rasterTypeInfos": [
  {
   "name": "Raster Dataset",
   "description": "Supports all ArcGIS Raster Datasets",
   "help": ""
  }
 ],
 "mensurationCapabilities": "Basic",
 "hasHistograms": true,
 "hasColormap": false,
 "hasRasterAttributeTable": false,
 "minScale": 2.950973373024995E8,
 "maxScale": 72045.24836486804,
 "minLOD": 0,
 "maxLOD": 12,
 "exportTilesAllowed": false,
 "supportsStatistics": false,
 "supportsAdvancedQueries": false,
 "editFieldsInfo": null,
 "ownershipBasedAccessControlForRasters": null,
 "allowComputeTiePoints": false,
 "useStandardizedQueries": true,
 "advancedQueryCapabilities": {
  "useStandardizedQueries": true,
  "supportsStatistics": false,
  "supportsOrderBy": false,
  "supportsDistinct": false,
  "supportsPagination": false
 },
 "spatialReference": {
  "wkid": 9377,
  "latestWkid": 9377
 }
}
