View In:
ArcGIS JavaScript
ArcGIS Online Map Viewer
ArcGIS Earth
ArcGIS Pro
Service Description: Contiene la información catastral de la Alcaldía del Cauca, la cual fue tomada en noviembre de 2025 del Portal de datos abiertos de Catastro en Línea, para mayor información consultar la URL: https://catastroenlinea.com.co/datosabiertos.aspx
Map Name: Catastro Alcaldia Jamundi
Legend
All Layers and Tables
Dynamic Legend
Dynamic All Layers
Layers:
Description: Contiene la información catastral de la Alcaldía del Cauca, la cual fue tomada en noviembre de 2025 del Portal de datos abiertos de Catastro en Línea, para mayor información consultar la URL: https://catastroenlinea.com.co/datosabiertos.aspx
Service Item Id: 4b6069d0d13f4204a116fc8bb08f6b38
Copyright Text: Geoportal Catastro en Linea: https://catastroenlinea.com.co/sig.aspx
Spatial Reference:
102100
(3857)
Single Fused Map Cache: true
Tile Info:
- Height: 256
- Width: 256
- DPI: 96
-
Levels of Detail: 24
-
Level ID: 1
[ Start Tile, End Tile ]
- Resolution: 78271.5169639999
- Scale: 2.95828763795777E8
-
Level ID: 2
[ Start Tile, End Tile ]
- Resolution: 39135.7584820001
- Scale: 1.47914381897889E8
-
Level ID: 3
[ Start Tile, End Tile ]
- Resolution: 19567.8792409999
- Scale: 7.3957190948944E7
-
Level ID: 4
[ Start Tile, End Tile ]
- Resolution: 9783.93962049996
- Scale: 3.6978595474472E7
-
Level ID: 5
[ Start Tile, End Tile ]
- Resolution: 4891.96981024998
- Scale: 1.8489297737236E7
- Format: PNG
- Compression Quality: 0.0
- Origin: X: -2.0037508342787E7
Y: 2.0037508342787E7
- Spatial Reference: 102100
(3857)
Storage Info:
- Storage Format: esriMapCacheStorageModeCompactV2
- Packet Size: 128
Initial Extent:
XMin: -8544210.4170715
YMin: 337491.5911856979
XMax: -8508984.428199494
YMax: 374746.615709056
Spatial Reference: 102100
(3857)
Full Extent:
XMin: -8543910.333400553
YMin: 344283.1338527535
XMax: -8511459.782820323
YMax: 370242.61676635535
Spatial Reference: 102100
(3857)
Units: esriMeters
Supported Image Format Types: PNG32,PNG24,PNG,JPG,DIB,TIFF,EMF,PS,PDF,GIF,SVG,SVGZ,BMP
Document Info:
Title: Información Catastral Alcaldia Jamundi
Author:
Comments: <DIV STYLE="text-align:Left;font-size:12pt"><DIV><P><SPAN>Contiene la información catastral de la Alcaldía del Cauca, la cual fue tomada en noviembre de 2025 del Portal de datos abiertos de Catastro en Línea, para mayor información consultar la URL: https://catastroenlinea.com.co/datosabiertos.aspx</SPAN></P></DIV></DIV>
Subject: Contiene la información catastral del Valle del Cauca generada por la Alcaldía de Jamundí
Category:
Keywords: Catastro,Predial,Rural,Urbano,Alcaldia Jamundi,Valle del Cauca,CVC,Colombia
AntialiasingMode: Fast
TextAntialiasingMode: Force
Supports Dynamic Layers: true
MaxRecordCount: 2000
MaxImageHeight: 4096
MaxImageWidth: 4096
Supported Query Formats: JSON, geoJSON, PBF
Supports Query Data Elements: true
Min Scale: 1.8489297737236E7
Max Scale: 1128.497176
Min LOD: 5
Max LOD: 19
Supports Datum Transformation: true
Child Resources:
Info
Dynamic Layer
Supported Operations:
Export Map
Identify
QueryLegends
QueryDomains
Find
Return Updates