View In:
ArcGIS JavaScript
ArcGIS Online Map Viewer
ArcGIS Earth
ArcGIS Pro
Service Description: La información de geomorfología se estructuró y ajustó a partir de la información cartográfica de suelos del estudio "Levantamiento de Suelos y Zonificación de Tierras del Departamento del Valle del Cauca" (IGAC - CVC, 2004). La estructura de datos y codificación de las unidades geomorfológicas fueron ajustadas de acuerdo a las necesidades de la Corporación.
Map Name: Geomorfologia
Legend
All Layers and Tables
Dynamic Legend
Dynamic All Layers
Layers:
Description: La información de geomorfología se estructuró y ajustó a partir de la información cartográfica de suelos del estudio "Levantamiento de Suelos y Zonificación de Tierras del Departamento del Valle del Cauca" (IGAC - CVC, 2004). La estructura de datos y codificación de las unidades geomorfológicas fueron ajustadas de acuerdo a las necesidades de la Corporación.
Service Item Id: c9e5620fc540429dab98d7400e5dc54b
Copyright Text: CVC - IGAC-2021
Spatial Reference:
102100
(3857)
Single Fused Map Cache: true
Tile Info:
- Height: 256
- Width: 256
- DPI: 96
-
Levels of Detail: 24
-
Level ID: 1
[ Start Tile, End Tile ]
- Resolution: 78271.5169639999
- Scale: 2.95828763795777E8
-
Level ID: 2
[ Start Tile, End Tile ]
- Resolution: 39135.7584820001
- Scale: 1.47914381897889E8
-
Level ID: 3
[ Start Tile, End Tile ]
- Resolution: 19567.8792409999
- Scale: 7.3957190948944E7
-
Level ID: 4
[ Start Tile, End Tile ]
- Resolution: 9783.93962049996
- Scale: 3.6978595474472E7
-
Level ID: 5
[ Start Tile, End Tile ]
- Resolution: 4891.96981024998
- Scale: 1.8489297737236E7
- Format: PNG
- Compression Quality: 0.0
- Origin: X: -2.0037508342787E7
Y: 2.0037508342787E7
- Spatial Reference: 102100
(3857)
Storage Info:
- Storage Format: esriMapCacheStorageModeCompactV2
- Packet Size: 128
Initial Extent:
XMin: -8623501.212940184
YMin: 305554.53704882547
XMax: -8403765.83962832
YMax: 579642.9954363479
Spatial Reference: 102100
(3857)
Full Extent:
XMin: -8633952.848867886
YMin: 343856.71811039967
XMax: -8427137.66174361
YMax: 562784.9926029939
Spatial Reference: 102100
(3857)
Units: esriMeters
Supported Image Format Types: PNG32,PNG24,PNG,JPG,DIB,TIFF,EMF,PS,PDF,GIF,SVG,SVGZ,BMP
Document Info:
Title: Geomorfología
Author:
Comments: La información de geomorfología se estructuró y ajustó a partir de la información cartográfica de suelos del estudio "Levantamiento de Suelos y Zonificación de Tierras del Departamento del Valle del Cauca" (IGAC - CVC, 2004). La estructura de datos y codificación de las unidades geomorfológicas fueron ajustadas de acuerdo a las necesidades de la Corporación.
Subject: Geomorfología del Valle del Cauca
Category:
Keywords: Suelos,Valle del Cauca,CVC,Colombia,Geomorfología,Geoformas,Suelo,PDA_Suelo
AntialiasingMode: Fast
TextAntialiasingMode: Force
Supports Dynamic Layers: true
Resampling: false
MaxRecordCount: 2000
MaxImageHeight: 4096
MaxImageWidth: 4096
Supported Query Formats: JSON, geoJSON, PBF
Supports Query Data Elements: true
Min Scale: 9244648.868618
Max Scale: 2256.994353
Min LOD: 6
Max LOD: 18
Supports Datum Transformation: true
Child Resources:
Info
Dynamic Layer
Supported Operations:
Export Map
Identify
QueryLegends
QueryDomains
Find
Return Updates