View In:
ArcGIS JavaScript
ArcGIS Online Map Viewer
ArcGIS Earth
ArcGIS Pro
Service Description: La información geológica existente ha sido el resultado de la recopilación y homologación de los diferentes estudios realizados por INGEOMINAS y la CVC. Los estudios del INGEOMINAS son: las planchas geológicas elaboradas en los años 80’s y 90´s para el departamento del Valle del Cauca en escala 1:100.000, el Mapa Geológico Generalizado del Departamento del Valle del Cauca realizado en 1992 a escala 1:300.000 y el mapa de Geología del Valle del Cauca en escala 1:250.000 de 2001; los estudios desarrollados por la CVC son: el Sistema de Información Geográfica de las Unidades de Manejo de Cuenca del Valle del Cauca elaborado entre 1996 y 2003 y el estudio de Levantamiento de Suelos y Zonificación de Tierras del Departamento del Valle del Cauca elaborado en convenio con el Instituto Geográfico Agustín Codazzi en 2004. El resultado de este proceso es el mapa geológico del Valle del Cauca en escala 1:100.000
Map Name: Geologia
Legend
All Layers and Tables
Dynamic Legend
Dynamic All Layers
Layers:
Description: La información geológica existente ha sido el resultado de la recopilación y homologación de los diferentes estudios realizados por INGEOMINAS y la CVC. Los estudios del INGEOMINAS son: las planchas geológicas elaboradas en los años 80’s y 90´s para el departamento del Valle del Cauca en escala 1:100.000, el Mapa Geológico Generalizado del Departamento del Valle del Cauca realizado en 1992 a escala 1:300.000 y el mapa de Geología del Valle del Cauca en escala 1:250.000 de 2001; los estudios desarrollados por la CVC son: el Sistema de Información Geográfica de las Unidades de Manejo de Cuenca del Valle del Cauca elaborado entre 1996 y 2003 y el estudio de Levantamiento de Suelos y Zonificación de Tierras del Departamento del Valle del Cauca elaborado en convenio con el Instituto Geográfico Agustín Codazzi en 2004. El resultado de este proceso es el mapa geológico del Valle del Cauca en escala 1:100.000
Service Item Id: 3c0d1fbf14e346b8a1757bd63684fafc
Copyright Text: CVC - Servicio Geológico Colombiano - IGAC
Spatial Reference:
102100
(3857)
Single Fused Map Cache: true
Tile Info:
- Height: 256
- Width: 256
- DPI: 96
-
Levels of Detail: 24
-
Level ID: 1
[ Start Tile, End Tile ]
- Resolution: 78271.5169639999
- Scale: 2.95828763795777E8
-
Level ID: 2
[ Start Tile, End Tile ]
- Resolution: 39135.7584820001
- Scale: 1.47914381897889E8
-
Level ID: 3
[ Start Tile, End Tile ]
- Resolution: 19567.8792409999
- Scale: 7.3957190948944E7
-
Level ID: 4
[ Start Tile, End Tile ]
- Resolution: 9783.93962049996
- Scale: 3.6978595474472E7
-
Level ID: 5
[ Start Tile, End Tile ]
- Resolution: 4891.96981024998
- Scale: 1.8489297737236E7
- Format: PNG
- Compression Quality: 0.0
- Origin: X: -2.0037508342787E7
Y: 2.0037508342787E7
- Spatial Reference: 102100
(3857)
Storage Info:
- Storage Format: esriMapCacheStorageModeCompactV2
- Packet Size: 128
Initial Extent:
XMin: -8616925.904106993
YMin: 334482.4070342457
XMax: -8431136.422825051
YMax: 556916.5252206936
Spatial Reference: 102100
(3857)
Full Extent:
XMin: -8614956.029044583
YMin: 337995.89594163094
XMax: -8445964.217634737
YMax: 569066.1309443258
Spatial Reference: 102100
(3857)
Units: esriMeters
Supported Image Format Types: PNG32,PNG24,PNG,JPG,DIB,TIFF,EMF,PS,PDF,GIF,SVG,SVGZ,BMP
Document Info:
Title: Geologia del Valle del Cauca
Author:
Comments: La información geológica existente ha sido el resultado de la recopilación y homologación de los diferentes estudios realizados por INGEOMINAS y la CVC. Los estudios del INGEOMINAS son: las planchas geológicas elaboradas en los años 80’s y 90´s para el departamento del Valle del Cauca en escala 1:100.000, el Mapa Geológico Generalizado del Departamento del Valle del Cauca realizado en 1992 a escala 1:300.000 y el mapa de Geología del Valle del Cauca en escala 1:250.000 de 2001; los estudios desarrollados por la CVC son: el Sistema de Información Geográfica de las Unidades de Manejo de Cuenca del Valle del Cauca elaborado entre 1996 y 2003 y el estudio de Levantamiento de Suelos y Zonificación de Tierras del Departamento del Valle del Cauca elaborado en convenio con el Instituto Geográfico Agustín Codazzi en 2004. El resultado de este proceso es el mapa geológico del Valle del Cauca en escala 1:100.000
Subject: Contiene la información del geología del Valle del Cauca.
Category:
Keywords: CVC,Valle del Cauca,Colombia,suelos,geología,recurso minero,Geología estructural
AntialiasingMode: Fast
TextAntialiasingMode: Force
Supports Dynamic Layers: true
MaxRecordCount: 2000
MaxImageHeight: 4096
MaxImageWidth: 4096
Supported Query Formats: JSON, geoJSON, PBF
Supports Query Data Elements: true
Min Scale: 1.8489297737236E7
Max Scale: 2256.994353
Min LOD: 5
Max LOD: 18
Supports Datum Transformation: true
Child Resources:
Info
Dynamic Layer
Supported Operations:
Export Map
Identify
QueryLegends
QueryDomains
Find
Return Updates