View In:
ArcGIS JavaScript
ArcGIS Online Map Viewer
ArcGIS Earth
Service Description: Sombreado Modelo Digital del Terreno (MDT) a partir de datos obtenidos mediante un radar aerotransportado para diferentes cuencas del Valle del Cauca y del Cauca
Name: IMAGENES/Sombras_Radar
Description: Sombreado Modelo Digital del Terreno (MDT) a partir de datos obtenidos mediante un radar aerotransportado para diferentes cuencas del Valle del Cauca y del Cauca
Single Fused Map Cache: false
Extent:
XMin: 946440.0000000021
YMin: 771755.0000193059
XMax: 1153060.000000002
YMax: 1049590.0000193059
Spatial Reference: 3115
(3115)
Initial Extent:
XMin: 946440.0000000021
YMin: 771755.0000193059
XMax: 1153060.000000002
YMax: 1049590.0000193059
Spatial Reference: 3115
(3115)
Full Extent:
XMin: 946440.0000000021
YMin: 771755.0000193059
XMax: 1153060.000000002
YMax: 1049590.0000193059
Spatial Reference: 3115
(3115)
Pixel Size X: 2.5
Pixel Size Y: 2.5
Band Count: 1
Pixel Type: F32
RasterFunction Infos: {"rasterFunctionInfos": [
{
"name": "SombrasRadar",
"description": "A raster function template.",
"help": ""
},
{
"name": "None",
"description": "Make a Raster or Raster Dataset into a Function Raster Dataset.",
"help": ""
},
{
"name": "MDT_Radar",
"description": "Plantilla Color DRA Radar",
"help": ""
}
]}
Mensuration Capabilities: Basic
Has Histograms: true
Has Colormap: false
Has Multi Dimensions : false
Rendering Rule:
Min Scale: 0
Max Scale: 0
Copyright Text: Contrato 485 de 2014 entre la CVC e Ingeovista LTDA, con OBJETO: Generar cartografía básica (escala 1:10.000), un modelo digital de terreno (MDT), un modelo digital de superficie (MDS) e imágenes de radar ortorectificadas a partir de datos obtenidos mediante un radar aerotransportado para diferentes cuencas del valle del cauca y del cauca – Fase I.
Service Data Type: esriImageServiceDataTypeGeneric
Min Values: -13.149971008301
Max Values: 4286.5268554688
Mean Values: 1313.3289052255
Standard Deviation Values: 962.87612495768
Object ID Field:
Fields:
None
Default Mosaic Method: Center
Allowed Mosaic Methods:
SortField:
SortValue: null
Mosaic Operator: First
Default Compression Quality: 75
Default Resampling Method: Bilinear
Max Record Count: null
Max Image Height: 4100
Max Image Width: 15000
Max Download Image Count: null
Max Mosaic Image Count: null
Allow Raster Function: true
Allow Copy: true
Allow Analysis: true
Allow Compute TiePoints: false
Supports Statistics: false
Supports Advanced Queries: false
Use StandardizedQueries: true
Raster Type Infos:
Name: Raster Dataset
Description: Supports all ArcGIS Raster Datasets
Help:
Has Raster Attribute Table: false
Edit Fields Info: null
Ownership Based AccessControl For Rasters: null
Child Resources:
Info
Histograms
Statistics
Key Properties
Legend
Raster Function Infos
Supported Operations:
Export Image
Identify
Measure
Compute Histograms
Compute Statistics Histograms
Get Samples
Compute Class Statistics
Query Boundary
Compute Pixel Location
Compute Angles
Validate
Project