View In:
ArcGIS JavaScript
ArcGIS Online Map Viewer
ArcGIS Earth
Service Description: IMAGENES/MDT_RADAR_EPGS4326
Name: IMAGENES/MDT_RADAR_EPGS4326
Description:
Single Fused Map Cache: false
Extent:
XMin: -77.57230524486393
YMin: 2.5261358517188297
XMax: -75.68958378040335
YMax: 5.054896512430378
Spatial Reference: 4326
(4326)
Initial Extent:
XMin: -77.57230524486393
YMin: 2.5261358517188297
XMax: -75.68958378040335
YMax: 5.054896512430378
Spatial Reference: 4326
(4326)
Full Extent:
XMin: -77.57230524486393
YMin: 2.5261358517188297
XMax: -75.68958378040335
YMax: 5.054896512430378
Spatial Reference: 4326
(4326)
Pixel Size X: 2.2629135740340307E-5
Pixel Size Y: 2.2629135740340307E-5
Band Count: 1
Pixel Type: F32
RasterFunction Infos: {"rasterFunctionInfos": [
{
"name": "None",
"description": "Make a Raster or Raster Dataset into a Function Raster Dataset.",
"help": ""
},
{
"name": "MDT_Radar",
"description": "Plantilla Color DRA Radar",
"help": ""
}
]}
Mensuration Capabilities: Basic
Has Histograms: false
Has Colormap: false
Has Multi Dimensions : false
Rendering Rule:
Min Scale: 0
Max Scale: 0
Copyright Text:
Service Data Type: esriImageServiceDataTypeGeneric
Min Values: -13.149971008301
Max Values: 4286.5268554688
Mean Values: 1313.1988557538
Standard Deviation Values: 962.79471321336
Object ID Field:
Fields:
None
Default Mosaic Method: Center
Allowed Mosaic Methods:
SortField:
SortValue: null
Mosaic Operator: First
Default Compression Quality: 75
Default Resampling Method: Bilinear
Max Record Count: null
Max Image Height: 4100
Max Image Width: 15000
Max Download Image Count: null
Max Mosaic Image Count: null
Allow Raster Function: true
Allow Copy: true
Allow Analysis: true
Allow Compute TiePoints: false
Supports Statistics: false
Supports Advanced Queries: false
Use StandardizedQueries: true
Raster Type Infos:
Name: Raster Dataset
Description: Supports all ArcGIS Raster Datasets
Help:
Has Raster Attribute Table: false
Edit Fields Info: null
Ownership Based AccessControl For Rasters: null
Child Resources:
Info
Statistics
Key Properties
Legend
Raster Function Infos
Supported Operations:
Export Image
Identify
Measure
Compute Histograms
Compute Statistics Histograms
Get Samples
Compute Class Statistics
Query Boundary
Compute Pixel Location
Compute Angles
Validate
Project