{ "currentVersion": 11.1, "cimVersion": "3.1.0", "serviceDescription": "
Corresponde al mapa de cobertura de la tierra, de acuerdo con la clasificación metodológica Corine Land Cover. Contiene una estructura que permite generar información de coberturadel suelo a nivel de cuenca hidrográfica con una escala 1: 25.000, y permite generalizarse temáticamente a escalas 1:50.000, 1: 100.000, 1: 250.000, 1:500.000. La metodología se soporta en la interpretación visual, la utilización de procesamiento de imágenes de satélite y fotografías aéreas ortorectificadas, soportadas en el trabajo de campo utilizando GPS para la captura de puntos, líneas y toma de fotografías en terreno para registro de los cambios en la cobertura y uso del suelo.<\/SPAN><\/P><\/DIV><\/DIV>",
"mapName": "Cobertura Uso Suelo",
"description": " Corresponde al mapa de cobertura de la tierra, de acuerdo con la clasificación metodológica Corine Land Cover. Contiene una estructura que permite generar información de coberturadel suelo a nivel de cuenca hidrográfica con una escala 1: 25.000, y permite generalizarse temáticamente a escalas 1:50.000, 1: 100.000, 1: 250.000, 1:500.000. La metodología se soporta en la interpretación visual, la utilización de procesamiento de imágenes de satélite y fotografías aéreas ortorectificadas, soportadas en el trabajo de campo utilizando GPS para la captura de puntos, líneas y toma de fotografías en terreno para registro de los cambios en la cobertura y uso del suelo.<\/SPAN><\/P><\/DIV><\/DIV>",
"copyrightText": "CVC",
"supportsDynamicLayers": true,
"layers": [
{
"id": 0,
"name": "Cobertura Uso del Suelo 25k",
"parentLayerId": -1,
"defaultVisibility": true,
"subLayerIds": null,
"minScale": 25000,
"maxScale": 0,
"type": "Feature Layer",
"geometryType": "esriGeometryPolygon",
"supportsDynamicLegends": true
},
{
"id": 1,
"name": "Cobertura Uso del Suelo 50k",
"parentLayerId": -1,
"defaultVisibility": true,
"subLayerIds": null,
"minScale": 50000,
"maxScale": 25001,
"type": "Feature Layer",
"geometryType": "esriGeometryPolygon",
"supportsDynamicLegends": true
},
{
"id": 2,
"name": "Cobertura Uso Suelo 100k",
"parentLayerId": -1,
"defaultVisibility": true,
"subLayerIds": null,
"minScale": 100000,
"maxScale": 50001,
"type": "Feature Layer",
"geometryType": "esriGeometryPolygon",
"supportsDynamicLegends": true
},
{
"id": 3,
"name": "Cobertura Uso Suelo 250k",
"parentLayerId": -1,
"defaultVisibility": true,
"subLayerIds": null,
"minScale": 250000,
"maxScale": 100001,
"type": "Feature Layer",
"geometryType": "esriGeometryPolygon",
"supportsDynamicLegends": true
},
{
"id": 4,
"name": "Cobertura Uso Suelo 500k",
"parentLayerId": -1,
"defaultVisibility": true,
"subLayerIds": null,
"minScale": 0,
"maxScale": 250001,
"type": "Feature Layer",
"geometryType": "esriGeometryPolygon",
"supportsDynamicLegends": true
}
],
"tables": [],
"spatialReference": {
"wkid": 102100,
"latestWkid": 3857,
"xyTolerance": 0.001,
"zTolerance": 0.001,
"mTolerance": 0.001,
"falseX": -20037700,
"falseY": -30241100,
"xyUnits": 10000,
"falseZ": -100000,
"zUnits": 10000,
"falseM": -100000,
"mUnits": 10000
},
"singleFusedMapCache": true,
"tileInfo": {
"rows": 256,
"cols": 256,
"dpi": 96,
"format": "PNG",
"compressionQuality": 0,
"origin": {
"x": -2.0037508342787E7,
"y": 2.0037508342787E7
},
"spatialReference": {
"wkid": 102100,
"latestWkid": 3857,
"xyTolerance": 0.001,
"zTolerance": 0.001,
"mTolerance": 0.001,
"falseX": -20037700,
"falseY": -30241100,
"xyUnits": 1.4892314192838538E8,
"falseZ": -100000,
"zUnits": 10000,
"falseM": -100000,
"mUnits": 10000
},
"lods": [
{
"level": 0,
"resolution": 156543.033928,
"scale": 5.91657527591555E8
},
{
"level": 1,
"resolution": 78271.5169639999,
"scale": 2.95828763795777E8
},
{
"level": 2,
"resolution": 39135.7584820001,
"scale": 1.47914381897889E8
},
{
"level": 3,
"resolution": 19567.8792409999,
"scale": 7.3957190948944E7
},
{
"level": 4,
"resolution": 9783.93962049996,
"scale": 3.6978595474472E7
},
{
"level": 5,
"resolution": 4891.96981024998,
"scale": 1.8489297737236E7
},
{
"level": 6,
"resolution": 2445.98490512499,
"scale": 9244648.868618
},
{
"level": 7,
"resolution": 1222.99245256249,
"scale": 4622324.434309
},
{
"level": 8,
"resolution": 611.49622628138,
"scale": 2311162.217155
},
{
"level": 9,
"resolution": 305.748113140558,
"scale": 1155581.108577
},
{
"level": 10,
"resolution": 152.874056570411,
"scale": 577790.554289
},
{
"level": 11,
"resolution": 76.4370282850732,
"scale": 288895.277144
},
{
"level": 12,
"resolution": 38.2185141425366,
"scale": 144447.638572
},
{
"level": 13,
"resolution": 19.1092570712683,
"scale": 72223.819286
},
{
"level": 14,
"resolution": 9.55462853563415,
"scale": 36111.909643
},
{
"level": 15,
"resolution": 4.77731426794937,
"scale": 18055.954822
},
{
"level": 16,
"resolution": 2.38865713397468,
"scale": 9027.977411
},
{
"level": 17,
"resolution": 1.19432856685505,
"scale": 4513.988705
},
{
"level": 18,
"resolution": 0.597164283559817,
"scale": 2256.994353
},
{
"level": 19,
"resolution": 0.298582141647617,
"scale": 1128.497176
},
{
"level": 20,
"resolution": 0.14929107082380833,
"scale": 564.248588
},
{
"level": 21,
"resolution": 0.07464553541190416,
"scale": 282.124294
},
{
"level": 22,
"resolution": 0.03732276770595208,
"scale": 141.062147
},
{
"level": 23,
"resolution": 0.01866138385297604,
"scale": 70.5310735
}
]
},
"storageInfo": {
"storageFormat": "esriMapCacheStorageModeCompactV2",
"packetSize": 128
},
"initialExtent": {
"xmin": -8688880.817656972,
"ymin": 231229.30763135297,
"xmax": -8364004.658786274,
"ymax": 651778.2737571704,
"spatialReference": {
"wkid": 102100,
"latestWkid": 3857,
"xyTolerance": 0.001,
"zTolerance": 0.001,
"mTolerance": 0.001,
"falseX": -20037700,
"falseY": -30241100,
"xyUnits": 10000,
"falseZ": -100000,
"zUnits": 10000,
"falseM": -100000,
"mUnits": 10000
}
},
"fullExtent": {
"xmin": -8633952.848867886,
"ymin": 343856.71811039967,
"xmax": -8427137.66174361,
"ymax": 562784.9926029939,
"spatialReference": {
"wkid": 102100,
"latestWkid": 3857,
"xyTolerance": 0.001,
"zTolerance": 0.001,
"mTolerance": 0.001,
"falseX": -20037700,
"falseY": -30241100,
"xyUnits": 10000,
"falseZ": -100000,
"zUnits": 10000,
"falseM": -100000,
"mUnits": 10000
}
},
"datesInUnknownTimezone": false,
"minScale": 9244648.868618,
"maxScale": 4513.988705,
"minLOD": 6,
"maxLOD": 17,
"units": "esriMeters",
"supportedImageFormatTypes": "PNG32,PNG24,PNG,JPG,DIB,TIFF,EMF,PS,PDF,GIF,SVG,SVGZ,BMP",
"documentInfo": {
"Title": "Mapa Cobertura Tierra",
"Author": "",
"Comments": " Corresponde al mapa de cobertura de la tierra, de acuerdo con la clasificación metodológica Corine Land Cover. Contiene una estructura que permite generar información de coberturadel suelo a nivel de cuenca hidrográfica con una escala 1: 25.000, y permite generalizarse temáticamente a escalas 1:50.000, 1: 100.000, 1: 250.000, 1:500.000. La metodología se soporta en la interpretación visual, la utilización de procesamiento de imágenes de satélite y fotografías aéreas ortorectificadas, soportadas en el trabajo de campo utilizando GPS para la captura de puntos, líneas y toma de fotografías en terreno para registro de los cambios en la cobertura y uso del suelo.<\/SPAN><\/P><\/DIV><\/DIV>",
"Subject": "Corresponde al mapa de cobertura de de la tierra, de acuerdo con la clasificación metodológica Corine Land Cover.",
"Category": "",
"Version": "3.1.0",
"AntialiasingMode": "Fast",
"TextAntialiasingMode": "Force",
"Keywords": "CVC,Valle del Cauca,Cobertura,Cobertura del suelo,Corine Lans Cover,Suelo,Colombia"
},
"capabilities": "Map,Query,Data",
"supportedQueryFormats": "JSON, geoJSON, PBF",
"exportTilesAllowed": false,
"referenceScale": 0.0,
"datumTransformations": [
{
"geoTransforms": [
{
"wkid": 15738,
"latestWkid": 15738,
"transformForward": true,
"name": "MAGNA_To_WGS_1984_1"
}
]
}
],
"supportsDatumTransformation": true,
"floorAwareMapProperties": {
"defaultFloorFilterSettings": {"isEnabled": true}
},
"archivingInfo": {"supportsHistoricMoment": false},
"supportsClipping": true,
"supportsSpatialFilter": true,
"supportsTimeRelation": true,
"supportsQueryDataElements": true,
"mapUnits": {"uwkid": 9001},
"maxRecordCount": 4000,
"maxImageHeight": 4096,
"maxImageWidth": 4096,
"supportedExtensions": "FeatureServer, WFSServer, WMSServer",
"serviceItemId": "5bcff541965d4fe7a99beec362bcd734"
}