{ "currentVersion": 11.1, "cimVersion": "3.1.0", "serviceDescription": "
El Plan de Ordenación y Manejo de cuencas Hidrográficas POMCAS es el instrumento a través del cual se realiza la planeación y uso coordinado del suelo, de las aguas, de la flora y de la fauna y el manejo de la cuenca entendido como la ejecución de obras y tratamientos, con el fin de mantener el equilibrio entre el aprovechamiento social y económico de los recursos y la conservación de la estructura físico-biótica de la cuenca y particularmente del recurso hídrico. El Modelo de ordenación de la Cuenca Hidrográfica es el resultado de la aplicación metodológica de las fases de: Aprestamiento, Diagnóstico, Prospectiva y zonificación ambiental y Formulación. En la Fase de Prospectiva y Zonificación Ambiental se diseñan los escenarios futuros del uso coordinado y sostenible del suelo, de las aguas, de la flora y de la fauna presente de la cuenca, y se define, el modelo de ordenación de la cuenca, con base en el cual se formula el Plan de Ordenación y Manejo correspondiente, en un horizonte no menor a diez años.<\/SPAN> <\/SPAN>En la Zonificación Ambiental se indica la ubicación de ecosistemas estratégicos tales como: Áreas del SINAP, ACC, AIA, ARE<\/SPAN> <\/SPAN>y ASP además de las áreas susceptibles a inundaciones, movimientos en masa, conflicto por uso de la tierra y conflicto por pérdida de la cobertura vegetal.<\/SPAN><\/P><\/DIV><\/DIV>",
"mapName": "Modelo Ordenacion POMCA La Vieja",
"description": " El Plan de Ordenación y Manejo de cuencas Hidrográficas POMCAS es el instrumento a través del cual se realiza la planeación y uso coordinado del suelo, de las aguas, de la flora y de la fauna y el manejo de la cuenca entendido como la ejecución de obras y tratamientos, con el fin de mantener el equilibrio entre el aprovechamiento social y económico de los recursos y la conservación de la estructura físico-biótica de la cuenca y particularmente del recurso hídrico. El Modelo de ordenación de la Cuenca Hidrográfica es el resultado de la aplicación metodológica de las fases de: Aprestamiento, Diagnóstico, Prospectiva y zonificación ambiental y Formulación. En la Fase de Prospectiva y Zonificación Ambiental se diseñan los escenarios futuros del uso coordinado y sostenible del suelo, de las aguas, de la flora y de la fauna presente de la cuenca, y se define, el modelo de ordenación de la cuenca, con base en el cual se formula el Plan de Ordenación y Manejo correspondiente, en un horizonte no menor a diez años.<\/SPAN> <\/SPAN>En la Zonificación Ambiental se indica la ubicación de ecosistemas estratégicos tales como: Áreas del SINAP, ACC, AIA, ARE<\/SPAN> <\/SPAN>y ASP además de las áreas susceptibles a inundaciones, movimientos en masa, conflicto por uso de la tierra y conflicto por pérdida de la cobertura vegetal.<\/SPAN><\/P><\/DIV><\/DIV>",
"copyrightText": "Contrato de Consultoría CRQ No. 001 de 2015 suscrito con el Consorcio Pomca Quindío. Adoptado mediante Resolución 0100 No. 0500-0274 del 20 de abril del 2018 \u201cPor la cual se ajusta el Plan de Ordenación y Manejo de la Cuenca Hidrográfica del Río La Vieja y se adoptan otras determinaciones\u201d.",
"supportsDynamicLayers": true,
"layers": [
{
"id": 0,
"name": "Modelo Ordenacion Río La Vieja",
"parentLayerId": -1,
"defaultVisibility": true,
"subLayerIds": null,
"minScale": 0,
"maxScale": 0,
"type": "Feature Layer",
"geometryType": "esriGeometryPolygon",
"supportsDynamicLegends": true
}
],
"tables": [],
"spatialReference": {
"wkid": 102100,
"latestWkid": 3857,
"xyTolerance": 0.001,
"zTolerance": 0.001,
"mTolerance": 0.001,
"falseX": -20037700,
"falseY": -30241100,
"xyUnits": 10000,
"falseZ": -100000,
"zUnits": 10000,
"falseM": -100000,
"mUnits": 10000
},
"singleFusedMapCache": true,
"tileInfo": {
"rows": 256,
"cols": 256,
"dpi": 96,
"format": "PNG",
"compressionQuality": 0,
"origin": {
"x": -2.0037508342787E7,
"y": 2.0037508342787E7
},
"spatialReference": {
"wkid": 102100,
"latestWkid": 3857,
"xyTolerance": 0.001,
"zTolerance": 0.001,
"mTolerance": 0.001,
"falseX": -20037700,
"falseY": -30241100,
"xyUnits": 1.4892314192838538E8,
"falseZ": -100000,
"zUnits": 10000,
"falseM": -100000,
"mUnits": 10000
},
"lods": [
{
"level": 0,
"resolution": 156543.033928,
"scale": 5.91657527591555E8
},
{
"level": 1,
"resolution": 78271.5169639999,
"scale": 2.95828763795777E8
},
{
"level": 2,
"resolution": 39135.7584820001,
"scale": 1.47914381897889E8
},
{
"level": 3,
"resolution": 19567.8792409999,
"scale": 7.3957190948944E7
},
{
"level": 4,
"resolution": 9783.93962049996,
"scale": 3.6978595474472E7
},
{
"level": 5,
"resolution": 4891.96981024998,
"scale": 1.8489297737236E7
},
{
"level": 6,
"resolution": 2445.98490512499,
"scale": 9244648.868618
},
{
"level": 7,
"resolution": 1222.99245256249,
"scale": 4622324.434309
},
{
"level": 8,
"resolution": 611.49622628138,
"scale": 2311162.217155
},
{
"level": 9,
"resolution": 305.748113140558,
"scale": 1155581.108577
},
{
"level": 10,
"resolution": 152.874056570411,
"scale": 577790.554289
},
{
"level": 11,
"resolution": 76.4370282850732,
"scale": 288895.277144
},
{
"level": 12,
"resolution": 38.2185141425366,
"scale": 144447.638572
},
{
"level": 13,
"resolution": 19.1092570712683,
"scale": 72223.819286
},
{
"level": 14,
"resolution": 9.55462853563415,
"scale": 36111.909643
},
{
"level": 15,
"resolution": 4.77731426794937,
"scale": 18055.954822
},
{
"level": 16,
"resolution": 2.38865713397468,
"scale": 9027.977411
},
{
"level": 17,
"resolution": 1.19432856685505,
"scale": 4513.988705
},
{
"level": 18,
"resolution": 0.597164283559817,
"scale": 2256.994353
},
{
"level": 19,
"resolution": 0.298582141647617,
"scale": 1128.497176
},
{
"level": 20,
"resolution": 0.14929107082380833,
"scale": 564.248588
},
{
"level": 21,
"resolution": 0.07464553541190416,
"scale": 282.124294
},
{
"level": 22,
"resolution": 0.03732276770595208,
"scale": 141.062147
},
{
"level": 23,
"resolution": 0.01866138385297604,
"scale": 70.5310735
}
]
},
"storageInfo": {
"storageFormat": "esriMapCacheStorageModeCompactV2",
"packetSize": 128
},
"initialExtent": {
"xmin": -8501808.83141617,
"ymin": 443174.2162055017,
"xmax": -8346326.430818083,
"ymax": 548093.9078643108,
"spatialReference": {
"wkid": 102100,
"latestWkid": 3857,
"xyTolerance": 0.001,
"zTolerance": 0.001,
"mTolerance": 0.001,
"falseX": -20037700,
"falseY": -30241100,
"xyUnits": 10000,
"falseZ": -100000,
"zUnits": 10000,
"falseM": -100000,
"mUnits": 10000
}
},
"fullExtent": {
"xmin": -8539720.567178985,
"ymin": 372216.1719227218,
"xmax": -8391207.448639046,
"ymax": 537343.9382121655,
"spatialReference": {
"wkid": 102100,
"latestWkid": 3857,
"xyTolerance": 0.001,
"zTolerance": 0.001,
"mTolerance": 0.001,
"falseX": -20037700,
"falseY": -30241100,
"xyUnits": 10000,
"falseZ": -100000,
"zUnits": 10000,
"falseM": -100000,
"mUnits": 10000
}
},
"datesInUnknownTimezone": false,
"minScale": 1.8489297737236E7,
"maxScale": 2256.994353,
"minLOD": 5,
"maxLOD": 18,
"units": "esriMeters",
"supportedImageFormatTypes": "PNG32,PNG24,PNG,JPG,DIB,TIFF,EMF,PS,PDF,GIF,SVG,SVGZ,BMP",
"documentInfo": {
"Title": "Modelo Ordenación POMCA Rio La Vieja",
"Author": "",
"Comments": " El Plan de Ordenación y Manejo de cuencas Hidrográficas POMCAS es el instrumento a través del cual se realiza la planeación y uso coordinado del suelo, de las aguas, de la flora y de la fauna y el manejo de la cuenca entendido como la ejecución de obras y tratamientos, con el fin de mantener el equilibrio entre el aprovechamiento social y económico de los recursos y la conservación de la estructura físico-biótica de la cuenca y particularmente del recurso hídrico. El Modelo de ordenación de la Cuenca Hidrográfica es el resultado de la aplicación metodológica de las fases de: Aprestamiento, Diagnóstico, Prospectiva y zonificación ambiental y Formulación. En la Fase de Prospectiva y Zonificación Ambiental se diseñan los escenarios futuros del uso coordinado y sostenible del suelo, de las aguas, de la flora y de la fauna presente de la cuenca, y se define, el modelo de ordenación de la cuenca, con base en el cual se formula el Plan de Ordenación y Manejo correspondiente, en un horizonte no menor a diez años.<\/SPAN> <\/SPAN>En la Zonificación Ambiental se indica la ubicación de ecosistemas estratégicos tales como: Áreas del SINAP, ACC, AIA, ARE<\/SPAN> <\/SPAN>y ASP además de las áreas susceptibles a inundaciones, movimientos en masa, conflicto por uso de la tierra y conflicto por pérdida de la cobertura vegetal.<\/SPAN><\/P><\/DIV><\/DIV>",
"Subject": "Contiene la Zonificación Ambiental del Plan de Ordenación y Manejo de cuencas Hidrográficas POMCAs a escala 1:25.000.",
"Category": "",
"Version": "3.1.0",
"AntialiasingMode": "Fast",
"TextAntialiasingMode": "Force",
"Keywords": "Plan de Ordenación y Manejo de cuencas Hidrográficas,POMCAS,Modelo de Ordenación,Zonificación Ambiental,Usos principales propuestos del suelo,Resguardo Indigena,Areas complementarias de conservacion,Parque Nacional Natural de los Nevados,Paisaje cultural cafetero,Movimientos en masa,SINAP,Areas de importancia ambiental,Indice del estado de las coberturas,Reservas forestal de la ley 2da,Inundaciones,Indice del uso del agua (IUA),conflicto uso de la tierra,conflicto por perdida de cobertura vegetal en ecosistemas estrategicos,Río la Vieja,Valle del Cauca,Colombia."
},
"capabilities": "Map,Query,Data",
"supportedQueryFormats": "JSON, geoJSON, PBF",
"exportTilesAllowed": false,
"referenceScale": 0.0,
"datumTransformations": [
{
"geoTransforms": [
{
"wkid": 15738,
"latestWkid": 15738,
"transformForward": true,
"name": "MAGNA_To_WGS_1984_1"
}
]
}
],
"supportsDatumTransformation": true,
"floorAwareMapProperties": {
"defaultFloorFilterSettings": {"isEnabled": false}
},
"archivingInfo": {"supportsHistoricMoment": false},
"supportsClipping": true,
"supportsSpatialFilter": true,
"supportsTimeRelation": true,
"supportsQueryDataElements": true,
"mapUnits": {"uwkid": 9001},
"maxRecordCount": 2000,
"maxImageHeight": 4096,
"maxImageWidth": 4096,
"supportedExtensions": "FeatureServer, WFSServer, WMSServer",
"serviceItemId": "ad6a73de9fb1494f8e02c3b53a5924be"
}