{
 "currentVersion": 11.1,
 "serviceDescription": "IMAGENES/ValleCauca_ORIP_2_5m_16bits_img",
 "name": "IMAGENES/ValleCauca_ORIP_2_5m_16bits_img",
 "description": "",
 "extent": {
  "xmin": 946440,
  "ymin": 771755,
  "xmax": 1153060,
  "ymax": 1049590,
  "spatialReference": {
   "wkid": 3115,
   "latestWkid": 3115
  }
 },
 "initialExtent": {
  "xmin": 946440,
  "ymin": 771755,
  "xmax": 1153060,
  "ymax": 1049590,
  "spatialReference": {
   "wkid": 3115,
   "latestWkid": 3115
  }
 },
 "fullExtent": {
  "xmin": 946440,
  "ymin": 771755,
  "xmax": 1153060,
  "ymax": 1049590,
  "spatialReference": {
   "wkid": 3115,
   "latestWkid": 3115
  }
 },
 "sortableFields": "",
 "bandCount": 1,
 "pixelType": "U16",
 "minValues": [
  1
 ],
 "maxValues": [
  15792
 ],
 "meanValues": [
  77.381869532506
 ],
 "stdvValues": [
  36.399386497675
 ],
 "hasMultidimensions": false,
 "pixelSizeX": 2.5,
 "pixelSizeY": 2.5,
 "datasetFormat": "IMAGINE Image",
 "uncompressedSize": 18370005664,
 "blockWidth": 512,
 "blockHeight": 512,
 "compressionType": "None",
 "bandNames": [
  "Layer_1"
 ],
 "allowCopy": true,
 "allowAnalysis": true,
 "itemAccess": false,
 "noDataValue": 0,
 "noDataValues": [
  0
 ],
 "minPixelSize": 0,
 "maxPixelSize": 0,
 "copyrightText": "",
 "serviceDataType": "esriImageServiceDataTypeGeneric",
 "serviceSourceType": "esriImageServiceSourceTypeDataset",
 "objectIdField": "",
 "fields": [],
 "capabilities": "Mensuration,Image,Metadata",
 "defaultMosaicMethod": "Center",
 "allowedMosaicMethods": "",
 "sortField": "",
 "sortValue": null,
 "sortAscending": true,
 "mosaicOperator": "First",
 "defaultCompressionQuality": 75,
 "defaultResamplingMethod": "Bilinear",
 "maxImageHeight": 4100,
 "maxImageWidth": 15000,
 "allowRasterFunction": true,
 "rasterFunctionInfos": [
  {
   "name": "None",
   "description": "",
   "help": ""
  }
 ],
 "rasterTypeInfos": [
  {
   "name": "Raster Dataset",
   "description": "Supports all ArcGIS Raster Datasets",
   "help": ""
  }
 ],
 "mensurationCapabilities": "Basic",
 "hasHistograms": true,
 "hasColormap": false,
 "hasRasterAttributeTable": false,
 "minScale": 0,
 "maxScale": 0,
 "exportTilesAllowed": false,
 "supportsStatistics": false,
 "supportsAdvancedQueries": false,
 "editFieldsInfo": null,
 "ownershipBasedAccessControlForRasters": null,
 "allowComputeTiePoints": false,
 "useStandardizedQueries": true,
 "advancedQueryCapabilities": {
  "useStandardizedQueries": true,
  "supportsStatistics": false,
  "supportsOrderBy": false,
  "supportsDistinct": false,
  "supportsPagination": false
 },
 "spatialReference": {
  "wkid": 3115,
  "latestWkid": 3115
 }
}
