{
 "currentVersion": 11.1,
 "serviceDescription": "Modelo Digital del Terreno (MDT) a partir de datos obtenidos mediante un radar aerotransportado para diferentes cuencas del Valle del Cauca y del Cauca.",
 "name": "IMAGENES/MDT_Radar",
 "description": "Modelo Digital del Terreno (MDT) a partir de datos obtenidos mediante un radar aerotransportado para diferentes cuencas del Valle del Cauca y del Cauca.",
 "extent": {
  "xmin": 946440.0000000021,
  "ymin": 771755.0000193059,
  "xmax": 1153060.000000002,
  "ymax": 1049590.0000193059,
  "spatialReference": {
   "wkid": 3115,
   "latestWkid": 3115
  }
 },
 "initialExtent": {
  "xmin": 946440.0000000021,
  "ymin": 771755.0000193059,
  "xmax": 1153060.000000002,
  "ymax": 1049590.0000193059,
  "spatialReference": {
   "wkid": 3115,
   "latestWkid": 3115
  }
 },
 "fullExtent": {
  "xmin": 946440.0000000021,
  "ymin": 771755.0000193059,
  "xmax": 1153060.000000002,
  "ymax": 1049590.0000193059,
  "spatialReference": {
   "wkid": 3115,
   "latestWkid": 3115
  }
 },
 "sortableFields": "",
 "bandCount": 1,
 "pixelType": "F32",
 "minValues": [
  -13.149971008301
 ],
 "maxValues": [
  4286.5268554688
 ],
 "meanValues": [
  1313.3289052255
 ],
 "stdvValues": [
  962.87612495768
 ],
 "hasMultidimensions": false,
 "pixelSizeX": 2.5,
 "pixelSizeY": 2.5,
 "datasetFormat": "TIFF",
 "uncompressedSize": 36740011328,
 "blockWidth": 128,
 "blockHeight": 128,
 "compressionType": "LZW",
 "bandNames": [
  "Band_1"
 ],
 "allowCopy": true,
 "allowAnalysis": true,
 "itemAccess": false,
 "noDataValue": -3.4028230607370965E38,
 "noDataValues": [
  -3.4028230607370965E38
 ],
 "minPixelSize": 0,
 "maxPixelSize": 0,
 "copyrightText": "CVC",
 "serviceDataType": "esriImageServiceDataTypeGeneric",
 "serviceSourceType": "esriImageServiceSourceTypeDataset",
 "objectIdField": "",
 "fields": [],
 "capabilities": "Mensuration,Image,Metadata",
 "defaultMosaicMethod": "Center",
 "allowedMosaicMethods": "",
 "sortField": "",
 "sortValue": null,
 "sortAscending": true,
 "mosaicOperator": "First",
 "defaultCompressionQuality": 75,
 "defaultResamplingMethod": "Bilinear",
 "maxImageHeight": 4100,
 "maxImageWidth": 15000,
 "allowRasterFunction": true,
 "rasterFunctionInfos": [
  {
   "name": "None",
   "description": "Make a Raster or Raster Dataset into a Function Raster Dataset.",
   "help": ""
  },
  {
   "name": "MDT_Radar",
   "description": "Plantilla Color DRA Radar",
   "help": ""
  },
  {
   "name": "None",
   "description": "Make a Raster or Raster Dataset into a Function Raster Dataset.",
   "help": ""
  },
  {
   "name": "MDT_Radar",
   "description": "Plantilla Color DRA Radar",
   "help": ""
  }
 ],
 "rasterTypeInfos": [
  {
   "name": "Raster Dataset",
   "description": "Supports all ArcGIS Raster Datasets",
   "help": ""
  }
 ],
 "mensurationCapabilities": "Basic",
 "hasHistograms": true,
 "hasColormap": false,
 "hasRasterAttributeTable": false,
 "minScale": 0,
 "maxScale": 0,
 "exportTilesAllowed": false,
 "supportsStatistics": false,
 "supportsAdvancedQueries": false,
 "editFieldsInfo": null,
 "ownershipBasedAccessControlForRasters": null,
 "allowComputeTiePoints": false,
 "useStandardizedQueries": true,
 "advancedQueryCapabilities": {
  "useStandardizedQueries": true,
  "supportsStatistics": false,
  "supportsOrderBy": false,
  "supportsDistinct": false,
  "supportsPagination": false
 },
 "spatialReference": {
  "wkid": 3115,
  "latestWkid": 3115
 }
}
