{ "currentVersion": 11.1, "cimVersion": "3.1.0", "serviceDescription": "
Cartografía Base del departamento del Valle del Cauca en la temática del relieve. Base IGAC y CVC<\/SPAN><\/P><\/DIV><\/DIV>",
"mapName": "Relieve",
"description": " Cartografía Base del departamento del Valle del Cauca en la temática del relieve. Base IGAC y CVC<\/SPAN><\/P><\/DIV><\/DIV>",
"copyrightText": "CVC- IGAC - 2021",
"supportsDynamicLayers": true,
"layers": [
{
"id": 0,
"name": "Curvas de Nivel (IGAC) -1500k",
"parentLayerId": -1,
"defaultVisibility": true,
"subLayerIds": null,
"minScale": 0,
"maxScale": 1000001,
"type": "Feature Layer",
"geometryType": "esriGeometryPolyline",
"supportsDynamicLegends": true
},
{
"id": 1,
"name": "Curvas de Nivel (IGAC) -1000k",
"parentLayerId": -1,
"defaultVisibility": true,
"subLayerIds": null,
"minScale": 1000000,
"maxScale": 500001,
"type": "Feature Layer",
"geometryType": "esriGeometryPolyline",
"supportsDynamicLegends": true
},
{
"id": 2,
"name": "Curvas de Nivel (IGAC) - 500k",
"parentLayerId": -1,
"defaultVisibility": true,
"subLayerIds": null,
"minScale": 500000,
"maxScale": 250001,
"type": "Feature Layer",
"geometryType": "esriGeometryPolyline",
"supportsDynamicLegends": true
},
{
"id": 3,
"name": "Curvas de Nivel (IGAC) - 250k",
"parentLayerId": -1,
"defaultVisibility": true,
"subLayerIds": null,
"minScale": 250000,
"maxScale": 100001,
"type": "Feature Layer",
"geometryType": "esriGeometryPolyline",
"supportsDynamicLegends": true
},
{
"id": 4,
"name": "Curvas de Nivel (IGAC) - 100k",
"parentLayerId": -1,
"defaultVisibility": true,
"subLayerIds": null,
"minScale": 100000,
"maxScale": 75001,
"type": "Feature Layer",
"geometryType": "esriGeometryPolyline",
"supportsDynamicLegends": true
},
{
"id": 5,
"name": "Curvas de Nivel (IGAC) - 75k",
"parentLayerId": -1,
"defaultVisibility": true,
"subLayerIds": null,
"minScale": 75000,
"maxScale": 50001,
"type": "Feature Layer",
"geometryType": "esriGeometryPolyline",
"supportsDynamicLegends": true
},
{
"id": 6,
"name": "Curvas de Nivel (IGAC) - 50k",
"parentLayerId": -1,
"defaultVisibility": true,
"subLayerIds": null,
"minScale": 50000,
"maxScale": 25001,
"type": "Feature Layer",
"geometryType": "esriGeometryPolyline",
"supportsDynamicLegends": true
},
{
"id": 7,
"name": "Curvas de Nivel (IGAC) - 25k",
"parentLayerId": -1,
"defaultVisibility": true,
"subLayerIds": null,
"minScale": 25000,
"maxScale": 10001,
"type": "Feature Layer",
"geometryType": "esriGeometryPolyline",
"supportsDynamicLegends": true
},
{
"id": 8,
"name": "Curvas de Nivel (Radar) - 10K",
"parentLayerId": -1,
"defaultVisibility": true,
"subLayerIds": null,
"minScale": 10000,
"maxScale": 1000,
"type": "Feature Layer",
"geometryType": "esriGeometryPolyline",
"supportsDynamicLegends": true
},
{
"id": 9,
"name": "Valle del Cauca - Modelo Sombras",
"parentLayerId": -1,
"defaultVisibility": true,
"subLayerIds": null,
"minScale": 0,
"maxScale": 0,
"type": "Raster Layer",
"supportsDynamicLegends": true
}
],
"tables": [
{
"id": 10,
"name": "Simbologia",
"type": "Table"
}
],
"spatialReference": {
"wkid": 102100,
"latestWkid": 3857,
"xyTolerance": 0.001,
"zTolerance": 0.001,
"mTolerance": 0.001,
"falseX": -20037700,
"falseY": -30241100,
"xyUnits": 10000,
"falseZ": -100000,
"zUnits": 10000,
"falseM": -100000,
"mUnits": 10000
},
"singleFusedMapCache": true,
"tileInfo": {
"rows": 256,
"cols": 256,
"dpi": 96,
"format": "Mixed",
"compressionQuality": 75,
"origin": {
"x": -2.0037508342787E7,
"y": 2.0037508342787E7
},
"spatialReference": {
"wkid": 102100,
"latestWkid": 3857,
"xyTolerance": 0.001,
"zTolerance": 0.001,
"mTolerance": 0.001,
"falseX": -20037700,
"falseY": -30241100,
"xyUnits": 1.4892314192838538E8,
"falseZ": -100000,
"zUnits": 10000,
"falseM": -100000,
"mUnits": 10000
},
"lods": [
{
"level": 0,
"resolution": 156543.033928,
"scale": 5.91657527591555E8
},
{
"level": 1,
"resolution": 78271.5169639999,
"scale": 2.95828763795777E8
},
{
"level": 2,
"resolution": 39135.7584820001,
"scale": 1.47914381897889E8
},
{
"level": 3,
"resolution": 19567.8792409999,
"scale": 7.3957190948944E7
},
{
"level": 4,
"resolution": 9783.93962049996,
"scale": 3.6978595474472E7
},
{
"level": 5,
"resolution": 4891.96981024998,
"scale": 1.8489297737236E7
},
{
"level": 6,
"resolution": 2445.98490512499,
"scale": 9244648.868618
},
{
"level": 7,
"resolution": 1222.99245256249,
"scale": 4622324.434309
},
{
"level": 8,
"resolution": 611.49622628138,
"scale": 2311162.217155
},
{
"level": 9,
"resolution": 305.748113140558,
"scale": 1155581.108577
},
{
"level": 10,
"resolution": 152.874056570411,
"scale": 577790.554289
},
{
"level": 11,
"resolution": 76.4370282850732,
"scale": 288895.277144
},
{
"level": 12,
"resolution": 38.2185141425366,
"scale": 144447.638572
},
{
"level": 13,
"resolution": 19.1092570712683,
"scale": 72223.819286
},
{
"level": 14,
"resolution": 9.55462853563415,
"scale": 36111.909643
},
{
"level": 15,
"resolution": 4.77731426794937,
"scale": 18055.954822
},
{
"level": 16,
"resolution": 2.38865713397468,
"scale": 9027.977411
},
{
"level": 17,
"resolution": 1.19432856685505,
"scale": 4513.988705
},
{
"level": 18,
"resolution": 0.597164283559817,
"scale": 2256.994353
},
{
"level": 19,
"resolution": 0.298582141647617,
"scale": 1128.497176
},
{
"level": 20,
"resolution": 0.14929107082380833,
"scale": 564.248588
},
{
"level": 21,
"resolution": 0.07464553541190416,
"scale": 282.124294
},
{
"level": 22,
"resolution": 0.03732276770595208,
"scale": 141.062147
},
{
"level": 23,
"resolution": 0.01866138385297604,
"scale": 70.5310735
}
]
},
"storageInfo": {
"storageFormat": "esriMapCacheStorageModeCompactV2",
"packetSize": 128
},
"initialExtent": {
"xmin": -8506024.23273332,
"ymin": 523643.0451174386,
"xmax": -8496947.085801447,
"ymax": 544396.567688008,
"spatialReference": {
"wkid": 102100,
"latestWkid": 3857,
"xyTolerance": 0.001,
"zTolerance": 0.001,
"mTolerance": 0.001,
"falseX": -20037700,
"falseY": -30241100,
"xyUnits": 10000,
"falseZ": -100000,
"zUnits": 10000,
"falseM": -100000,
"mUnits": 10000
}
},
"fullExtent": {
"xmin": -8634623.609268434,
"ymin": 339764.059632313,
"xmax": -8426410.652051099,
"ymax": 563030.6455468565,
"spatialReference": {
"wkid": 102100,
"latestWkid": 3857,
"xyTolerance": 0.001,
"zTolerance": 0.001,
"mTolerance": 0.001,
"falseX": -20037700,
"falseY": -30241100,
"xyUnits": 10000,
"falseZ": -100000,
"zUnits": 10000,
"falseM": -100000,
"mUnits": 10000
}
},
"datesInUnknownTimezone": false,
"minScale": 9244648.868618,
"maxScale": 2256.994353,
"minLOD": 6,
"maxLOD": 18,
"units": "esriMeters",
"supportedImageFormatTypes": "PNG32,PNG24,PNG,JPG,DIB,TIFF,EMF,PS,PDF,GIF,SVG,SVGZ,BMP",
"documentInfo": {
"Title": "Relieve",
"Author": "",
"Comments": " Cartografía Base del departamento del Valle del Cauca en la temática del relieve. Base IGAC y CVC<\/SPAN><\/P><\/DIV><\/DIV>",
"Subject": "Cartografía Base del departamento del Valle del Cauca en la temática del relieve",
"Category": "",
"Version": "2.9.0",
"AntialiasingMode": "Fast",
"TextAntialiasingMode": "Force",
"Keywords": "CVC,Valle del Cauca,Colombia,IGAC,Cartografía Básica"
},
"capabilities": "Map,Query,Data",
"supportedQueryFormats": "JSON, geoJSON, PBF",
"exportTilesAllowed": false,
"referenceScale": 0.0,
"datumTransformations": [
{
"geoTransforms": [
{
"wkid": 108001,
"latestWkid": 1241,
"transformForward": true,
"name": "NAD_1927_To_NAD_1983_NADCON"
}
]
},
{
"geoTransforms": [
{
"wkid": 108001,
"latestWkid": 1241,
"transformForward": false,
"name": "NAD_1927_To_NAD_1983_NADCON"
}
]
},
{
"geoTransforms": [
{
"wkid": 15738,
"latestWkid": 15738,
"transformForward": true,
"name": "MAGNA_To_WGS_1984_1"
}
]
}
],
"supportsDatumTransformation": true,
"floorAwareMapProperties": {
"defaultFloorFilterSettings": {"isEnabled": true}
},
"archivingInfo": {"supportsHistoricMoment": false},
"supportsClipping": true,
"supportsSpatialFilter": true,
"supportsTimeRelation": true,
"supportsQueryDataElements": true,
"mapUnits": {"uwkid": 9001},
"maxRecordCount": 1000,
"maxImageHeight": 4096,
"maxImageWidth": 4096,
"supportedExtensions": "FeatureServer, WFSServer, WMSServer",
"resampling": false,
"serviceItemId": "5dd53f260bed4c8b9798fe0b75a2567d"
}