{ "currentVersion": 11.1, "cimVersion": "3.1.0", "serviceDescription": "
Los mapas de ruido, fueron obtenidos a partir de la suma energética de todas las fuentes de ruido inventariadas por zonas de especial atención, en las cuales se concentra la mayor cantidad de generadores de ruido como son la zona industrial, comercial y de servicios, adicionalmente se estudiaron zonas con mayor número de quejas de la comunidad.La representacion grafica de las fuentes de ruido fueron generadas utilizando el modelo SoundPLAN.<\/span><\/span><\/p><\/div>",
"mapName": "Nivel Sonoro LAeq Ld Dom",
"description": " Los mapas de ruido, fueron obtenidos a partir de la suma energética de todas las fuentes de ruido inventariadas por zonas de especial atención, en las cuales se concentra la mayor cantidad de generadores de ruido como son la zona industrial, comercial y de servicios, adicionalmente se estudiaron zonas con mayor número de quejas de la comunidad.La representacion grafica de las fuentes de ruido fueron generadas utilizando el modelo SoundPLAN.<\/SPAN><\/SPAN><\/P><\/DIV>",
"copyrightText": "La presente información es el resultado de los siguientes contratos de consultoría:- Contrato CVC No. 0674 de 2018, cuyo objeto fue \u201cACTUALIZAR EL INVENTARIO DE EMISIONES A LA ATMÓSFERA Y LOS MAPAS DE RUIDO DE LOS MUNICIPIOS DE BUGA, TULUÁ, CARTAGO Y JAMUNDÍ\u201d, suscrito con la empresa K2 INGENIERÍA S.A.S.- Contrato CVC No. 535 de 2021, cuyo objeto fue \u201cACTUALIZAR EL MAPA DE RUIDO Y ELABORAR EL RESPECTIVO PLAN DE DESCONTAMINACIÓN SONORA EN ÁREA URBANA DEL MUNICIPIO DE PALMIRA - VALLE DEL CAUCA.- Contrato CVC No. 604 de 2022, cuyo objeto fue \u201cELABORAR EL MAPA DE RUIDO EN ÁREA URBANA DE LOS MUNICIPIOS DE YUMBO, CANDELARÍA, FLORIDA, ZARZAL Y ROLDANILLO, ASÍ COMO EL PLAN DE DESCONTAMINACIÓN SONORA EN LOS CITADOS MUNICIPIOS, ADICIONANDO TULÚA Y CARTAGO\", suscrito con la empresa SERVICIOS DE INGENIERÍA Y AMBIENTE SAS.",
"supportsDynamicLayers": true,
"layers": [
{
"id": 0,
"name": "Nivel Sonoro Dominical Diurno LAeq-LD-DOM",
"parentLayerId": -1,
"defaultVisibility": true,
"subLayerIds": null,
"minScale": 0,
"maxScale": 0,
"type": "Feature Layer",
"geometryType": "esriGeometryPolygon",
"supportsDynamicLegends": true
}
],
"tables": [],
"spatialReference": {
"wkid": 102100,
"latestWkid": 3857,
"xyTolerance": 0.001,
"zTolerance": 0.001,
"mTolerance": 0.001,
"falseX": -20037700,
"falseY": -30241100,
"xyUnits": 10000,
"falseZ": -100000,
"zUnits": 10000,
"falseM": -100000,
"mUnits": 10000
},
"singleFusedMapCache": true,
"tileInfo": {
"rows": 256,
"cols": 256,
"dpi": 96,
"format": "PNG",
"compressionQuality": 0,
"origin": {
"x": -2.0037508342787E7,
"y": 2.0037508342787E7
},
"spatialReference": {
"wkid": 102100,
"latestWkid": 3857,
"xyTolerance": 0.001,
"zTolerance": 0.001,
"mTolerance": 0.001,
"falseX": -20037700,
"falseY": -30241100,
"xyUnits": 1.4892314192838538E8,
"falseZ": -100000,
"zUnits": 10000,
"falseM": -100000,
"mUnits": 10000
},
"lods": [
{
"level": 0,
"resolution": 156543.033928,
"scale": 5.91657527591555E8
},
{
"level": 1,
"resolution": 78271.5169639999,
"scale": 2.95828763795777E8
},
{
"level": 2,
"resolution": 39135.7584820001,
"scale": 1.47914381897889E8
},
{
"level": 3,
"resolution": 19567.8792409999,
"scale": 7.3957190948944E7
},
{
"level": 4,
"resolution": 9783.93962049996,
"scale": 3.6978595474472E7
},
{
"level": 5,
"resolution": 4891.96981024998,
"scale": 1.8489297737236E7
},
{
"level": 6,
"resolution": 2445.98490512499,
"scale": 9244648.868618
},
{
"level": 7,
"resolution": 1222.99245256249,
"scale": 4622324.434309
},
{
"level": 8,
"resolution": 611.49622628138,
"scale": 2311162.217155
},
{
"level": 9,
"resolution": 305.748113140558,
"scale": 1155581.108577
},
{
"level": 10,
"resolution": 152.874056570411,
"scale": 577790.554289
},
{
"level": 11,
"resolution": 76.4370282850732,
"scale": 288895.277144
},
{
"level": 12,
"resolution": 38.2185141425366,
"scale": 144447.638572
},
{
"level": 13,
"resolution": 19.1092570712683,
"scale": 72223.819286
},
{
"level": 14,
"resolution": 9.55462853563415,
"scale": 36111.909643
},
{
"level": 15,
"resolution": 4.77731426794937,
"scale": 18055.954822
},
{
"level": 16,
"resolution": 2.38865713397468,
"scale": 9027.977411
},
{
"level": 17,
"resolution": 1.19432856685505,
"scale": 4513.988705
},
{
"level": 18,
"resolution": 0.597164283559817,
"scale": 2256.994353
},
{
"level": 19,
"resolution": 0.298582141647617,
"scale": 1128.497176
},
{
"level": 20,
"resolution": 0.14929107082380833,
"scale": 564.248588
},
{
"level": 21,
"resolution": 0.07464553541190416,
"scale": 282.124294
},
{
"level": 22,
"resolution": 0.03732276770595208,
"scale": 141.062147
},
{
"level": 23,
"resolution": 0.01866138385297604,
"scale": 70.5310735
}
]
},
"storageInfo": {
"storageFormat": "esriMapCacheStorageModeCompactV2",
"packetSize": 128
},
"initialExtent": {
"xmin": -8512417.990658784,
"ymin": 367999.3618311906,
"xmax": -8461519.643669078,
"ymax": 523129.03101368755,
"spatialReference": {
"wkid": 102100,
"latestWkid": 3857,
"xyTolerance": 0.001,
"zTolerance": 0.001,
"mTolerance": 0.001,
"falseX": -20037700,
"falseY": -30241100,
"xyUnits": 10000,
"falseZ": -100000,
"zUnits": 10000,
"falseM": -100000,
"mUnits": 10000
}
},
"fullExtent": {
"xmin": -8526699.631065544,
"ymin": 358856.9708563431,
"xmax": -8447400.678992119,
"ymax": 532302.9804433486,
"spatialReference": {
"wkid": 102100,
"latestWkid": 3857,
"xyTolerance": 0.001,
"zTolerance": 0.001,
"mTolerance": 0.001,
"falseX": -20037700,
"falseY": -30241100,
"xyUnits": 10000,
"falseZ": -100000,
"zUnits": 10000,
"falseM": -100000,
"mUnits": 10000
}
},
"datesInUnknownTimezone": false,
"minScale": 9244648.868618,
"maxScale": 2256.994353,
"minLOD": 6,
"maxLOD": 18,
"units": "esriMeters",
"supportedImageFormatTypes": "PNG32,PNG24,PNG,JPG,DIB,TIFF,EMF,PS,PDF,GIF,SVG,SVGZ,BMP",
"documentInfo": {
"Title": "Nivel Sonoro Dominical Diurno LAeq_LD_DOM",
"Author": "",
"Comments": " Los mapas de ruido, fueron obtenidos a partir de la suma energética de todas las fuentes de ruido inventariadas por zonas de especial atención, en las cuales se concentra la mayor cantidad de generadores de ruido como son la zona industrial, comercial y de servicios, adicionalmente se estudiaron zonas con mayor número de quejas de la comunidad.La representacion grafica de las fuentes de ruido fueron generadas utilizando el modelo SoundPLAN.<\/SPAN><\/SPAN><\/P><\/DIV>",
"Subject": "El mapa de ruido presentado contiene la representación gráfica de todas las fuentes de ruido en el periodo Domingo (LAeq,d) de los cascos urbanos de los municipios para el proyecto mapas estratégicos de ruido, determinado en un período temporal de evaluación equivalente a horario diurno \u201c07:01 \u2013 21:00\u201d en día dominical",
"Category": "",
"Version": "2.9.0",
"AntialiasingMode": "Fast",
"TextAntialiasingMode": "Force",
"Keywords": "Municipio de Buga,Municipio de Tulua,Municipio de Cartago,Municipio de Jamundí,Municipio de Palmira,Municipio de Candelaria,Municipio de Florida,Municipio de Yumbo,Municipio de Roldanillo,Municipio de Zarzal,Valle del Cauca,Colombia,CVC,Ruido,Ld,LAeq,Diurno,Dominical,Nivel Sonoro"
},
"capabilities": "Map,Query,Data",
"supportedQueryFormats": "JSON, geoJSON, PBF",
"exportTilesAllowed": false,
"referenceScale": 0.0,
"datumTransformations": [
{
"geoTransforms": [
{
"wkid": 15738,
"latestWkid": 15738,
"transformForward": true,
"name": "MAGNA_To_WGS_1984_1"
}
]
}
],
"supportsDatumTransformation": true,
"floorAwareMapProperties": {
"defaultFloorFilterSettings": {"isEnabled": true}
},
"archivingInfo": {"supportsHistoricMoment": false},
"supportsClipping": true,
"supportsSpatialFilter": true,
"supportsTimeRelation": true,
"supportsQueryDataElements": true,
"mapUnits": {"uwkid": 9001},
"maxRecordCount": 320000,
"maxImageHeight": 4096,
"maxImageWidth": 4096,
"supportedExtensions": "FeatureServer, WFSServer, WMSServer",
"resampling": false,
"serviceItemId": "e4a2b29ddd064413b18fbc0214a91f17"
}