{
 "currentVersion": 11.1,
 "serviceDescription": "EscenaPerfil_v2_WEL1",
 "name": "EscenaPerfil_v2_WEL1",
 "description": "",
 "extent": {
  "xmin": 961290.5000000274,
  "ymin": 796960.5000000442,
  "xmax": 1149786.2999999903,
  "ymax": 1036435.6999999969,
  "spatialReference": {
   "wkid": 3115,
   "latestWkid": 3115
  }
 },
 "initialExtent": {
  "xmin": 961290.5000000274,
  "ymin": 796960.5000000442,
  "xmax": 1149786.2999999903,
  "ymax": 1036435.6999999969,
  "spatialReference": {
   "wkid": 3115,
   "latestWkid": 3115
  }
 },
 "fullExtent": {
  "xmin": 961290.5000000274,
  "ymin": 796960.5000000442,
  "xmax": 1149786.2999999903,
  "ymax": 1036435.6999999969,
  "spatialReference": {
   "wkid": 3115,
   "latestWkid": 3115
  }
 },
 "sortableFields": "MinPS,MaxPS,LowPS,HighPS,CenterX,CenterY,ZOrder,Shape_Length,Shape_Area",
 "bandCount": 1,
 "pixelType": "F32",
 "minValues": [
  783.9600219726562
 ],
 "maxValues": [
  2091.359375
 ],
 "meanValues": [
  981.5835267608519
 ],
 "stdvValues": [
  132.05377143248944
 ],
 "hasMultidimensions": false,
 "pixelSizeX": 0.19999999999996065,
 "pixelSizeY": 0.1999999999999605,
 "datasetFormat": "AMD",
 "uncompressedSize": 4514006940416,
 "blockWidth": 2048,
 "blockHeight": 256,
 "compressionType": "None",
 "bandNames": [
  "Band_1"
 ],
 "allowCopy": true,
 "allowAnalysis": true,
 "itemAccess": false,
 "minPixelSize": 19.07723375173194,
 "maxPixelSize": 78140.34944709402,
 "copyrightText": "",
 "serviceDataType": "esriImageServiceDataTypeGeneric",
 "serviceSourceType": "esriImageServiceSourceTypeMosaicDataset",
 "objectIdField": "OBJECTID",
 "fields": [
  {
   "name": "OBJECTID",
   "type": "esriFieldTypeOID",
   "alias": "OBJECTID",
   "domain": null
  },
  {
   "name": "Shape",
   "type": "esriFieldTypeGeometry",
   "alias": "Shape",
   "domain": null
  },
  {
   "name": "Name",
   "type": "esriFieldTypeString",
   "alias": "Name",
   "domain": null,
   "length": 200
  },
  {
   "name": "MinPS",
   "type": "esriFieldTypeDouble",
   "alias": "MinPS",
   "domain": null
  },
  {
   "name": "MaxPS",
   "type": "esriFieldTypeDouble",
   "alias": "MaxPS",
   "domain": null
  },
  {
   "name": "LowPS",
   "type": "esriFieldTypeDouble",
   "alias": "LowPS",
   "domain": null
  },
  {
   "name": "HighPS",
   "type": "esriFieldTypeDouble",
   "alias": "HighPS",
   "domain": null
  },
  {
   "name": "Category",
   "type": "esriFieldTypeInteger",
   "alias": "Category",
   "domain": {
    "type": "codedValue",
    "name": "MosaicCatalogItemCategoryDomain",
    "description": "Catalog item categories.",
    "codedValues": [
     {
      "name": "Unknown",
      "code": 0
     },
     {
      "name": "Primary",
      "code": 1
     },
     {
      "name": "Overview",
      "code": 2
     },
     {
      "name": "Unprocessed Overview",
      "code": 3
     },
     {
      "name": "Partial Overview",
      "code": 4
     },
     {
      "name": "Inactive",
      "code": 5
     },
     {
      "name": "Uploaded",
      "code": 253
     },
     {
      "name": "Incomplete",
      "code": 254
     },
     {
      "name": "Custom",
      "code": 255
     }
    ],
    "mergePolicy": "esriMPTDefaultValue",
    "splitPolicy": "esriSPTDefaultValue"
   }
  },
  {
   "name": "Tag",
   "type": "esriFieldTypeString",
   "alias": "Tag",
   "domain": null,
   "length": 100
  },
  {
   "name": "GroupName",
   "type": "esriFieldTypeString",
   "alias": "GroupName",
   "domain": null,
   "length": 100
  },
  {
   "name": "ProductName",
   "type": "esriFieldTypeString",
   "alias": "ProductName",
   "domain": null,
   "length": 100
  },
  {
   "name": "CenterX",
   "type": "esriFieldTypeDouble",
   "alias": "CenterX",
   "domain": null
  },
  {
   "name": "CenterY",
   "type": "esriFieldTypeDouble",
   "alias": "CenterY",
   "domain": null
  },
  {
   "name": "ZOrder",
   "type": "esriFieldTypeInteger",
   "alias": "ZOrder",
   "domain": null
  },
  {
   "name": "Shape_Length",
   "type": "esriFieldTypeDouble",
   "alias": "Shape_Length",
   "domain": null
  },
  {
   "name": "Shape_Area",
   "type": "esriFieldTypeDouble",
   "alias": "Shape_Area",
   "domain": null
  }
 ],
 "capabilities": "Image,Metadata,Catalog",
 "defaultMosaicMethod": "Northwest",
 "allowedMosaicMethods": "NorthWest,Center,LockRaster,ByAttribute,Nadir,Viewpoint,Seamline,None",
 "sortField": "",
 "sortValue": null,
 "sortAscending": true,
 "mosaicOperator": "First",
 "maxDownloadSizeLimit": 2048,
 "defaultCompressionQuality": 75,
 "defaultResamplingMethod": "Bilinear",
 "maxImageHeight": 4100,
 "maxImageWidth": 15000,
 "maxRecordCount": 1000,
 "maxDownloadImageCount": 20,
 "maxMosaicImageCount": 45,
 "singleFusedMapCache": true,
 "tileInfo": {
  "rows": 256,
  "cols": 256,
  "dpi": 96,
  "format": "LERC",
  "compressionQuality": 0,
  "lercError": 0.05,
  "origin": {
   "x": -9001964.729228035,
   "y": 1.0493732263596196E7
  },
  "spatialReference": {
   "wkid": 3115,
   "latestWkid": 3115
  },
  "lods": [
   {
    "level": 0,
    "resolution": 78140.34944709402,
    "scale": 2.9533360420948917E8
   },
   {
    "level": 1,
    "resolution": 39070.17472354701,
    "scale": 1.4766680210474458E8
   },
   {
    "level": 2,
    "resolution": 19535.087361773505,
    "scale": 7.383340105237229E7
   },
   {
    "level": 3,
    "resolution": 9767.543680886753,
    "scale": 3.6916700526186146E7
   },
   {
    "level": 4,
    "resolution": 4883.771840443376,
    "scale": 1.8458350263093073E7
   },
   {
    "level": 5,
    "resolution": 2441.885920221688,
    "scale": 9229175.131546536
   },
   {
    "level": 6,
    "resolution": 1220.942960110844,
    "scale": 4614587.565773268
   },
   {
    "level": 7,
    "resolution": 610.471480055422,
    "scale": 2307293.782886634
   },
   {
    "level": 8,
    "resolution": 305.235740027711,
    "scale": 1153646.891443317
   },
   {
    "level": 9,
    "resolution": 152.6178700138555,
    "scale": 576823.4457216585
   },
   {
    "level": 10,
    "resolution": 76.30893500692775,
    "scale": 288411.72286082926
   },
   {
    "level": 11,
    "resolution": 38.15446750346388,
    "scale": 144205.86143041463
   },
   {
    "level": 12,
    "resolution": 19.07723375173194,
    "scale": 72102.93071520732
   },
   {
    "level": 13,
    "resolution": 9.53861687586597,
    "scale": 36051.46535760366
   },
   {
    "level": 14,
    "resolution": 4.769308437932985,
    "scale": 18025.73267880183
   },
   {
    "level": 15,
    "resolution": 2.3846542189664923,
    "scale": 9012.866339400915
   },
   {
    "level": 16,
    "resolution": 1.1923271094832462,
    "scale": 4506.433169700457
   },
   {
    "level": 17,
    "resolution": 0.5961635547416231,
    "scale": 2253.2165848502286
   },
   {
    "level": 18,
    "resolution": 0.29808177737081154,
    "scale": 1126.6082924251143
   }
  ]
 },
 "storageInfo": {
  "storageFormat": "esriMapCacheStorageModeCompactV2",
  "packetSize": 128
 },
 "cacheType": "Elevation",
 "allowRasterFunction": true,
 "rasterFunctionInfos": [
  {
   "name": "None",
   "description": "Make a Raster or Raster Dataset into a Function Raster Dataset.",
   "help": ""
  }
 ],
 "rasterTypeInfos": [
  {
   "name": "Raster Dataset",
   "description": "Supports all ArcGIS Raster Datasets",
   "help": ""
  }
 ],
 "mensurationCapabilities": "None",
 "hasHistograms": true,
 "hasColormap": false,
 "hasRasterAttributeTable": false,
 "minScale": 2.9533360420948917E8,
 "maxScale": 72102.93071520732,
 "minLOD": 0,
 "maxLOD": 12,
 "exportTilesAllowed": false,
 "supportsStatistics": true,
 "supportsAdvancedQueries": true,
 "editFieldsInfo": null,
 "ownershipBasedAccessControlForRasters": null,
 "allowComputeTiePoints": false,
 "useStandardizedQueries": true,
 "advancedQueryCapabilities": {
  "useStandardizedQueries": true,
  "supportsStatistics": true,
  "supportsOrderBy": true,
  "supportsDistinct": true,
  "supportsPagination": true
 },
 "spatialReference": {
  "wkid": 3115,
  "latestWkid": 3115
 }
}
