{
 "currentVersion": 11.1,
 "serviceDescription": "EscenaPerfil_v2_WEL",
 "name": "EscenaPerfil_v2_WEL",
 "description": "",
 "extent": {
  "xmin": 946440.0000000021,
  "ymin": 771755.0000193059,
  "xmax": 1153060.000000002,
  "ymax": 1049590.0000193059,
  "spatialReference": {
   "wkid": 3115,
   "latestWkid": 3115
  }
 },
 "initialExtent": {
  "xmin": 946440.0000000021,
  "ymin": 771755.0000193059,
  "xmax": 1153060.000000002,
  "ymax": 1049590.0000193059,
  "spatialReference": {
   "wkid": 3115,
   "latestWkid": 3115
  }
 },
 "fullExtent": {
  "xmin": 946440.0000000021,
  "ymin": 771755.0000193059,
  "xmax": 1153060.000000002,
  "ymax": 1049590.0000193059,
  "spatialReference": {
   "wkid": 3115,
   "latestWkid": 3115
  }
 },
 "sortableFields": "",
 "bandCount": 1,
 "pixelType": "F32",
 "minValues": [
  -13.149971008301
 ],
 "maxValues": [
  4286.5268554688
 ],
 "meanValues": [
  1313.3289052255
 ],
 "stdvValues": [
  962.87612495768
 ],
 "hasMultidimensions": false,
 "pixelSizeX": 2.5,
 "pixelSizeY": 2.5,
 "datasetFormat": "TIFF",
 "uncompressedSize": 36740011328,
 "blockWidth": 128,
 "blockHeight": 128,
 "compressionType": "LZW",
 "bandNames": [
  "Band_1"
 ],
 "allowCopy": true,
 "allowAnalysis": true,
 "itemAccess": false,
 "noDataValue": -3.4028230607370965E38,
 "noDataValues": [
  -3.4028230607370965E38
 ],
 "minPixelSize": 19.07723375173194,
 "maxPixelSize": 39070.17472354701,
 "copyrightText": "",
 "serviceDataType": "esriImageServiceDataTypeGeneric",
 "serviceSourceType": "esriImageServiceSourceTypeDataset",
 "objectIdField": "",
 "fields": [],
 "capabilities": "Image,Metadata,Mensuration",
 "defaultMosaicMethod": "Center",
 "allowedMosaicMethods": "",
 "sortField": "",
 "sortValue": null,
 "sortAscending": true,
 "mosaicOperator": "First",
 "defaultCompressionQuality": 75,
 "defaultResamplingMethod": "Bilinear",
 "maxImageHeight": 4100,
 "maxImageWidth": 15000,
 "singleFusedMapCache": true,
 "tileInfo": {
  "rows": 256,
  "cols": 256,
  "dpi": 96,
  "format": "LERC",
  "compressionQuality": 0,
  "lercError": 0.05,
  "origin": {
   "x": -9001964.729228035,
   "y": 1.0493732263596196E7
  },
  "spatialReference": {
   "wkid": 3115,
   "latestWkid": 3115
  },
  "lods": [
   {
    "level": 0,
    "resolution": 78140.34944709402,
    "scale": 2.9533360420948917E8
   },
   {
    "level": 1,
    "resolution": 39070.17472354701,
    "scale": 1.4766680210474458E8
   },
   {
    "level": 2,
    "resolution": 19535.087361773505,
    "scale": 7.383340105237229E7
   },
   {
    "level": 3,
    "resolution": 9767.543680886753,
    "scale": 3.6916700526186146E7
   },
   {
    "level": 4,
    "resolution": 4883.771840443376,
    "scale": 1.8458350263093073E7
   },
   {
    "level": 5,
    "resolution": 2441.885920221688,
    "scale": 9229175.131546536
   },
   {
    "level": 6,
    "resolution": 1220.942960110844,
    "scale": 4614587.565773268
   },
   {
    "level": 7,
    "resolution": 610.471480055422,
    "scale": 2307293.782886634
   },
   {
    "level": 8,
    "resolution": 305.235740027711,
    "scale": 1153646.891443317
   },
   {
    "level": 9,
    "resolution": 152.6178700138555,
    "scale": 576823.4457216585
   },
   {
    "level": 10,
    "resolution": 76.30893500692775,
    "scale": 288411.72286082926
   },
   {
    "level": 11,
    "resolution": 38.15446750346388,
    "scale": 144205.86143041463
   },
   {
    "level": 12,
    "resolution": 19.07723375173194,
    "scale": 72102.93071520732
   },
   {
    "level": 13,
    "resolution": 9.53861687586597,
    "scale": 36051.46535760366
   },
   {
    "level": 14,
    "resolution": 4.769308437932985,
    "scale": 18025.73267880183
   },
   {
    "level": 15,
    "resolution": 2.3846542189664923,
    "scale": 9012.866339400915
   },
   {
    "level": 16,
    "resolution": 1.1923271094832462,
    "scale": 4506.433169700457
   },
   {
    "level": 17,
    "resolution": 0.5961635547416231,
    "scale": 2253.2165848502286
   },
   {
    "level": 18,
    "resolution": 0.29808177737081154,
    "scale": 1126.6082924251143
   }
  ]
 },
 "storageInfo": {
  "storageFormat": "esriMapCacheStorageModeCompactV2",
  "packetSize": 128
 },
 "cacheType": "Elevation",
 "allowRasterFunction": true,
 "rasterFunctionInfos": [
  {
   "name": "None",
   "description": "Make a Raster or Raster Dataset into a Function Raster Dataset.",
   "help": ""
  },
  {
   "name": "MDT_Radar",
   "description": "Plantilla Color DRA Radar",
   "help": ""
  }
 ],
 "rasterTypeInfos": [
  {
   "name": "Raster Dataset",
   "description": "Supports all ArcGIS Raster Datasets",
   "help": ""
  }
 ],
 "mensurationCapabilities": "Basic",
 "hasHistograms": true,
 "hasColormap": false,
 "hasRasterAttributeTable": false,
 "minScale": 1.4766680210474458E8,
 "maxScale": 72102.93071520732,
 "minLOD": 1,
 "maxLOD": 12,
 "exportTilesAllowed": false,
 "supportsStatistics": false,
 "supportsAdvancedQueries": false,
 "editFieldsInfo": null,
 "ownershipBasedAccessControlForRasters": null,
 "allowComputeTiePoints": false,
 "useStandardizedQueries": true,
 "advancedQueryCapabilities": {
  "useStandardizedQueries": true,
  "supportsStatistics": false,
  "supportsOrderBy": false,
  "supportsDistinct": false,
  "supportsPagination": false
 },
 "spatialReference": {
  "wkid": 3115,
  "latestWkid": 3115
 }
}
